BEGIN:VCALENDAR
VERSION:2.0
PRODID:-//Ateneo Mercantil de Valencia - ECPv6.0.4//NONSGML v1.0//EN
CALSCALE:GREGORIAN
METHOD:PUBLISH
X-ORIGINAL-URL:https://historico.ateneovalencia.es
X-WR-CALDESC:Eventos para Ateneo Mercantil de Valencia
REFRESH-INTERVAL;VALUE=DURATION:PT1H
X-Robots-Tag:noindex
X-PUBLISHED-TTL:PT1H
BEGIN:VTIMEZONE
TZID:Europe/Madrid
BEGIN:DAYLIGHT
TZOFFSETFROM:+0100
TZOFFSETTO:+0200
TZNAME:CEST
DTSTART:20210328T010000
END:DAYLIGHT
BEGIN:STANDARD
TZOFFSETFROM:+0200
TZOFFSETTO:+0100
TZNAME:CET
DTSTART:20211031T010000
END:STANDARD
END:VTIMEZONE
BEGIN:VEVENT
DTSTART;TZID=Europe/Madrid:20210202T190000
DTEND;TZID=Europe/Madrid:20210202T210000
DTSTAMP:20260424T121831
CREATED:20210128T102426Z
LAST-MODIFIED:20210128T103145Z
UID:61933-1612292400-1612299600@historico.ateneovalencia.es
SUMMARY:"¿Qué necesito para encontrar trabajo fuera de España"
DESCRIPTION:El próximo martes 2 de febrero de 2021 a las 19 horas llega una nueva reunión online del Ciclo ‘Cómo afrontar los inicios de la vida profesional en la era post-Covid19’ que organizan el Foro Sensus Communis del Ateneo Mercantil y el Foro Universitas de Análisis Social. Una reunión dirigida a jóvenes entre los 20 y los 35 años que llega bajo el título "¿Qué necesito para encontrar trabajo fuera de España" y estará dirigida por el responsable de cumplimiento normativo en GAM Investments\, D. Luis González Benlloch. \nEnlace para la conferencia On line: https://zoom.us/j/95500121602\nCartel:
URL:https://historico.ateneovalencia.es/evento/que-necesito-para-encontrar-trabajo-fuera-de-espana/
LOCATION:On line
CATEGORIES:Sensus Communis
ATTACH;FMTTYPE=image/jpeg:https://historico.ateneovalencia.es/wp-content/uploads/2021/01/20210202-Sensus-Communis-Trabajo-fuera-España.jpg
END:VEVENT
BEGIN:VEVENT
DTSTART;TZID=Europe/Madrid:20210203T180000
DTEND;TZID=Europe/Madrid:20210203T200000
DTSTAMP:20260424T121831
CREATED:20210112T130228Z
LAST-MODIFIED:20210203T185457Z
UID:61744-1612375200-1612382400@historico.ateneovalencia.es
SUMMARY:Sensus Communis: "Protección y conservación del patrimonio cultural e histórico"
DESCRIPTION:El Foro Sensus Communis se vuelve a reunir el próximo miércoles 3 de febrero a las 18 horas en el Salón Stolz del Ateneo Mercantil de Valencia para realizar la conferencia "Protección y conservación del patrimonio cultural e histórico" y que impartirá la magistrada de la Audiencia Nacional\, Dª. Carolina Rius Alarco. \nEnlace para la conferencia On line: https://zoom.us/j/94840348036\nCon esta ponencia podrás tener una visión amplia y multidisciplinar de los distintos instrumentos jurídicos existentes para la protección del patrimonio histórico y cultural. Se profundizará en los aspectos penales\, civiles y administrativos que afectan al patrimonio cultural. \nLa protección y conservación del patrimonio se rige por leyes que pueden ser de carácter local\, nacional e incluso continental\, como es el caso de Europa que ha establecido normas\, comunes en todos los países de la unión\, para la preservación de su patrimonio cultural. La constante en estas normativas es establecer mecanismos preventivos de protección\, para que los bienes patrimonial se mantengan en el tiempo. \nCartel:
URL:https://historico.ateneovalencia.es/evento/sensus-communis-proteccion-y-conservacion-del-patrimonio-cultural-e-historico/
LOCATION:Salón Stolz - Ateneo Mercantil de Valencia\, Plaza del Ayuntamiento\, 18\, Valencia\, España\, Valencia\, Valencia\, 46002\, España
CATEGORIES:Sensus Communis
ATTACH;FMTTYPE=image/jpeg:https://historico.ateneovalencia.es/wp-content/uploads/2021/01/20210203-Sensus-Communis-Patrimonio-Cultural.jpg
END:VEVENT
BEGIN:VEVENT
DTSTART;TZID=Europe/Madrid:20210210T180000
DTEND;TZID=Europe/Madrid:20210210T200000
DTSTAMP:20260424T121831
CREATED:20210112T122729Z
LAST-MODIFIED:20210208T122354Z
UID:61736-1612980000-1612987200@historico.ateneovalencia.es
SUMMARY:Foro Sensus Communis: “El conflicto en Oriente Medio: ¿una historia interminable?”
DESCRIPTION:La próxima reunión del Foro Sensus Communis será el miércoles 10 de febrero a las 18 horas de manera online. Una conferencia que llega bajo el título: "El conflicto en Oriente Medio: ¿una historia interminable?" y que dará el Catedrático de Derecho Constitucional y Catedrático ‘Jean Monnet’ ad personam en la Universitat de València\, el Prof. Dr. Antonio Bar Cendón. \nEnlace para la conferencia On line: https://zoom.us/j/92551875953\nEl Prof. Antonio Bar fue el asesor jurídico y codirector del proyecto de la Unión Europea que llevó a la constitución y a la elección de la primera Autoridad Palestina\, entre los años 1994-1996. En esa condición\, el Prof. Bar asistió a la delegación palestina en las negociaciones correspondientes con el Estado de Israel. Es\, por lo tanto\, un conocedor profundo de los entresijos del complejo y nunca resuelto conflicto del Oriente Medio. \nDos mil quinientos años y la guerra continúa en las relaciones entre Occidente y Oriente. El conflicto entre Israel y los palestinos es muy complejo y ha convertido a Medio Oriente en un polvorín desde hace décadas. Esta disputa ha causado decenas de miles de muertos y millones de refugiados. Por ejemplo la guerra civil en Siria no es una conflagración aislada\, ya que está cronológicamente interconectada con todos los conflictos que se han suscitado en la región. \nLas guerras originadas dentro de la región vienen por la lucha por el territorio\, basada en la creencia con matices iusnaturalistas de un mayor derecho a ocupar la tierra\, la intromisión permanente de EE.UU y Gran Bretaña\, y la disputa por el control de los hidrocarburos. Estas problemáticas están rodeadas por el factor religioso\, lo que ha provocado una lectura errónea del problema medular\, pues se las considera como un asunto de fanatismo y se dejan de lado los factores de dominio territorial y económico. \nCartel:
URL:https://historico.ateneovalencia.es/evento/foro-sensus-communis-el-conflicto-en-oriente-medio-una-historia-interminable/
LOCATION:Salón Stolz - Ateneo Mercantil de Valencia\, Plaza del Ayuntamiento\, 18\, Valencia\, España\, Valencia\, Valencia\, 46002\, España
CATEGORIES:Sensus Communis
ATTACH;FMTTYPE=image/jpeg:https://historico.ateneovalencia.es/wp-content/uploads/2021/01/20210210-Sensus-Communis-Oriente-Medio.jpg
END:VEVENT
BEGIN:VEVENT
DTSTART;TZID=Europe/Madrid:20210217T180000
DTEND;TZID=Europe/Madrid:20210217T200000
DTSTAMP:20260424T121831
CREATED:20210112T134308Z
LAST-MODIFIED:20210113T085228Z
UID:61751-1613584800-1613592000@historico.ateneovalencia.es
SUMMARY:Sensus Communis: “Derechos de los animales: la última frontera”
DESCRIPTION:El Foro Sensus Communis llega con una nueva reunión el próximo miércoles 17 de febrero a las 18 horas en el Salón Stolz bajo el título "Derechos de los animales: la última frontera" que impartirá la Registradora de la propiedad\, investigadora\, doctora en Derecho y licenciada en Filosofía\, Dra. Virtudes Azpitarte. \nEnlace para la conferencia On line: https://zoom.us/j/97164656469\nNo todos los animales están protegidos ante un maltratador. Y es este hecho el que suscita una de las principales críticas que se hacen a la reciente reforma del Código Penal. Hablar de derechos de los animales puede suscitar en los estudiosos del Derecho un pero\, un apunte filosófico que\, si bien está cargado de razón\, no debe distraernos del objetivo que cada vez reclama más y más gente en nuestro país: proteger a los animales. \nCartel:\n \n 
URL:https://historico.ateneovalencia.es/evento/sensus-communis-derechos-de-los-animales-la-ultima-frontera/
LOCATION:Salón Stolz - Ateneo Mercantil de Valencia\, Plaza del Ayuntamiento\, 18\, Valencia\, España\, Valencia\, Valencia\, 46002\, España
CATEGORIES:Sensus Communis
ATTACH;FMTTYPE=image/jpeg:https://historico.ateneovalencia.es/wp-content/uploads/2021/01/20210217-Sensus-Communis-Derechos-Animales.jpg
END:VEVENT
BEGIN:VEVENT
DTSTART;TZID=Europe/Madrid:20210218T190000
DTEND;TZID=Europe/Madrid:20210218T210000
DTSTAMP:20260424T121831
CREATED:20210215T095324Z
LAST-MODIFIED:20210215T095324Z
UID:62346-1613674800-1613682000@historico.ateneovalencia.es
SUMMARY:“Un año después: el impacto de la Covid19 en una gran firma de servicios profesionales”
DESCRIPTION:El Foro Sensus Communis llega con la cuarta reunión del Ciclo 'Cómo afrontar los inicios de la vida profesional en la era post-Covid19' el próximo jueves 18 de febrero a las 19.00 horas\, en esta ocasión se realizará sólo por online. \nLa conferencia está dirigida especialmente a jóvenes entre 20 y 35 años y se titula "Un año después: el impacto de la Covid19 en una gran firma de servicios profesionales" y el ponente será D. José Marí Olano\, que es abogado del Estado\, director del Área Jurídica de KPMG de la Comunitat Valenciana y presidente de la Fundación Universitas. Este encuentro será posible gracias al trabajo conjunto del Foro Sensus Communis y la Fundación Universitas. \nEnlace para la conferencia Online: https://zoom.us/j/99180936449\nEste pasado 13 de febrero\, hizo un año que falleció en España la primera persona a causa de la Covid19. Doce meses después\, la vacuna contra la covid-19 ya está blindando a algunos colectivos contra el virus\, pero España está inmersa en la tercera ola de la pandemia\, con una alta presión hospitalaria por el coronavirus\, pero si algo ha cambiado en este tiempo ha sido la economía\, ya que existe una transformación sigilosa de nuestra economía que ha dejado la pandemia. La covid-19 no trae una revolución\, pero acelerará la implantación de grandes cambios que habían empezado a desarrollarse años antes como el teletrabajo\, la producción de proximidad y sostenible o el uso de videollamadas. \nCartel:
URL:https://historico.ateneovalencia.es/evento/un-ano-despues-el-impacto-de-la-covid19-en-una-gran-firma-de-servicios-profesionales/
LOCATION:On line
CATEGORIES:Sensus Communis
ATTACH;FMTTYPE=image/jpeg:https://historico.ateneovalencia.es/wp-content/uploads/2021/02/20210218-Jovenes-Covid19-Trabajo.jpg
END:VEVENT
BEGIN:VEVENT
DTSTART;TZID=Europe/Madrid:20210223T180000
DTEND;TZID=Europe/Madrid:20210223T200000
DTSTAMP:20260424T121831
CREATED:20210215T124459Z
LAST-MODIFIED:20210215T124849Z
UID:62362-1614103200-1614110400@historico.ateneovalencia.es
SUMMARY:Sensus Communis: "¿Cómo superar los peligros del móvil y de las redes sociales?"
DESCRIPTION:El Foro Sensus Communis ha programado una nueva reunión para el próximo martes 23 de febrero a las 18 horas en las que se tratará un tema de actualidad como es el riesgo del móvil y las Redes Sociales. Una conferencia online que llega bajo el título: "¿Cómo superar los peligros del móvil y de las redes sociales?" y que impartirá el profesor de Derecho Administrativo en la UV y autor de 'Tsunami digital. Hijos surferos'\, Prof. D. Juan Martínez Otero. \nEnlace para la conferencia online: https://zoom.us/j/95458238867\nEl teléfono móvil es un objeto cotidiano e imprescindible en la sociedad de hoy\, pero cada lo es a más temprana edad. El móvil ha pasado de ser un artículo de lujo de mayores a ser un medio imprescindible para estar actualizado y comunicado desde la temprana adolescencia\, por ello se ha convertido en un objeto en dónde se tiene que analizar el uso que le damos\, el contenido que compartimos y la edad a la que comienza a utilizarse\, así como la llegada a las redes sociales. \nCartel:
URL:https://historico.ateneovalencia.es/evento/sensus-communis-como-superar-los-peligros-del-movil-y-de-las-redes-sociales/
LOCATION:On line
CATEGORIES:Sensus Communis
ATTACH;FMTTYPE=image/jpeg:https://historico.ateneovalencia.es/wp-content/uploads/2021/02/20210223-Sensus-Communis-Redes-Sociales.jpg
END:VEVENT
END:VCALENDAR