BEGIN:VCALENDAR
VERSION:2.0
PRODID:-//Ateneo Mercantil de Valencia - ECPv6.0.4//NONSGML v1.0//EN
CALSCALE:GREGORIAN
METHOD:PUBLISH
X-ORIGINAL-URL:https://historico.ateneovalencia.es
X-WR-CALDESC:Eventos para Ateneo Mercantil de Valencia
REFRESH-INTERVAL;VALUE=DURATION:PT1H
X-Robots-Tag:noindex
X-PUBLISHED-TTL:PT1H
BEGIN:VTIMEZONE
TZID:Europe/Madrid
BEGIN:DAYLIGHT
TZOFFSETFROM:+0100
TZOFFSETTO:+0200
TZNAME:CEST
DTSTART:20210328T010000
END:DAYLIGHT
BEGIN:STANDARD
TZOFFSETFROM:+0200
TZOFFSETTO:+0100
TZNAME:CET
DTSTART:20211031T010000
END:STANDARD
END:VTIMEZONE
BEGIN:VEVENT
DTSTART;TZID=Europe/Madrid:20210121T190000
DTEND;TZID=Europe/Madrid:20210121T203000
DTSTAMP:20260424T121823
CREATED:20210112T113525Z
LAST-MODIFIED:20210112T114002Z
UID:61729-1611255600-1611261000@historico.ateneovalencia.es
SUMMARY:Sensus Communis: "El futuro de EE.UU en la era Post Trump"
DESCRIPTION:La próxima reunión del Foro Sensus Communis será el próximo jueves 21 de enero a las 129 horas en el Salón Stolz del Ateneo Mercantil y el tema a tratar será "El futuro de EE.UU en la era Post Trump". El encargado de dar la conferencia será el Profesor de Liderazgo\, Ética y Emprendimiento en la Universidad Católica de Valencia y Profesor Visitante en EE.UU y Europa en varias Escuelas de Negocios\, el Prof. Dr. Francisco J. Lara. \nEnlace para la conferencia Online: https://zoom.us/j/93281724525\nDonald Trump ha sido silenciado en las redes sociales\, repudiado por el establishment republicano\, abandonado por un rosario de sus altos cargos de su Gabinete y derrotado en las urnas\, nunca Donald Trump ha estado tan solo como estas últimas semanas. Ahora le toca a EE.UU arrancar de nuevo para proyectar un futuro de positividad en la ciudadanía. Un día antes de la conferencia del Foro Sensus Communis\, el 20 de enero el demócrata Joe Biden llegará a la Casa Blanca con un escenario social complicado\, ya que la sociedad estadounidense está profundamente fragmentada\, reflejo de otra división\, la política. Los EE.UU que se esperan tras el 'Trumpismo'\, es la vuelta al multilateralismo\, un retorno a la cooperación internacional\, con la lucha contra el cambio climático y apertura a la diversidad. Los desafíos y propuesta del nuevo presidente de los EE.UU\, Joe Biden\, serán en Política Exterior (restablecer lazos con otros países)\, en Salud ante la Covid19 (extender el esquema de Seguro Público) y la Inmigración (revertir la medidas de Trump)\, entre otros. \nCurriculum de Francisco J. Lara\nDoctor en Organización de Empresas por la Universidad Politécnica de Valencia\, máster en Liderazgo en Gestión Pública por el IESE Business School de Madrid\, máster en Dirección de Recursos Humanos por Garrigues y licenciado en Derecho por la Universidad de Navarra. En la actualidad es profesor en la Universidad Católica de Valencia y en el INEDE Business School. Ha sido profesor e investigador visitante de universidades americanas\, italianas\, francesas e inglesas. Es autor de numerosas ponencias en congresos mundiales y publicaciones científicas en revistas internacionales de prestigio.  \nCartel:
URL:https://historico.ateneovalencia.es/evento/sensus-communis-el-futuro-de-ee-uu-en-la-era-post-trump/
LOCATION:Salón Stolz - Ateneo Mercantil de Valencia\, Plaza del Ayuntamiento\, 18\, Valencia\, España\, Valencia\, Valencia\, 46002\, España
CATEGORIES:Sensus Communis
ATTACH;FMTTYPE=image/jpeg:https://historico.ateneovalencia.es/wp-content/uploads/2021/01/20210121-Sensus-Communis-Post-Era-Trump.jpg
END:VEVENT
END:VCALENDAR