BEGIN:VCALENDAR
VERSION:2.0
PRODID:-//Ateneo Mercantil de Valencia - ECPv6.0.4//NONSGML v1.0//EN
CALSCALE:GREGORIAN
METHOD:PUBLISH
X-ORIGINAL-URL:https://historico.ateneovalencia.es
X-WR-CALDESC:Eventos para Ateneo Mercantil de Valencia
REFRESH-INTERVAL;VALUE=DURATION:PT1H
X-Robots-Tag:noindex
X-PUBLISHED-TTL:PT1H
BEGIN:VTIMEZONE
TZID:Europe/Madrid
BEGIN:DAYLIGHT
TZOFFSETFROM:+0100
TZOFFSETTO:+0200
TZNAME:CEST
DTSTART:20200329T010000
END:DAYLIGHT
BEGIN:STANDARD
TZOFFSETFROM:+0200
TZOFFSETTO:+0100
TZNAME:CET
DTSTART:20201025T010000
END:STANDARD
END:VTIMEZONE
BEGIN:VEVENT
DTSTART;TZID=Europe/Madrid:20201203T193000
DTEND;TZID=Europe/Madrid:20201203T210000
DTSTAMP:20260424T151526
CREATED:20201123T122120Z
LAST-MODIFIED:20201123T130737Z
UID:61035-1607023800-1607029200@historico.ateneovalencia.es
SUMMARY:Ciclo Jóvenes Profesionales: "Oportunidades formativas y profesionales para jóvenes en la UE"
DESCRIPTION:El próximo jueves 3 de diciembre a las 19.30 horas llega al Salón Stolz una nueva reunión del Ciclo ‘Cómo afrontar los inicios de la vida profesional en la era post-Covid19’ que organizan el Foro Sensus Communis del Ateneo Mercantil y el Foro Universitas de Análisis Social. Una reunión dirigida a jóvenes entre los 20 y los 35 años que llega bajo el título "Oportunidades formativas y profesionales para jóvenes en la UE" y estará dirigida por la Profesora ayudante y Doctor de Derecho Constitucional por la UV\, Prof. Dra. Mónica Martínez López-Sáez. \nCartel:
URL:https://historico.ateneovalencia.es/evento/ciclo-jovenes-profesionales-oportunidades-formativas-y-profesionales-para-jovenes-en-la-ue/
LOCATION:Salón Stolz - Ateneo Mercantil de Valencia\, Plaza del Ayuntamiento\, 18\, Valencia\, España\, Valencia\, Valencia\, 46002\, España
CATEGORIES:Sensus Communis
ATTACH;FMTTYPE=image/jpeg:https://historico.ateneovalencia.es/wp-content/uploads/2020/11/20201203-Cilco-Jovenes-Profesionales-Unión-Europea.jpg
END:VEVENT
END:VCALENDAR