BEGIN:VCALENDAR
VERSION:2.0
PRODID:-//Ateneo Mercantil de Valencia - ECPv6.0.4//NONSGML v1.0//EN
CALSCALE:GREGORIAN
METHOD:PUBLISH
X-WR-CALNAME:Ateneo Mercantil de Valencia
X-ORIGINAL-URL:https://historico.ateneovalencia.es
X-WR-CALDESC:Eventos para Ateneo Mercantil de Valencia
REFRESH-INTERVAL;VALUE=DURATION:PT1H
X-Robots-Tag:noindex
X-PUBLISHED-TTL:PT1H
BEGIN:VTIMEZONE
TZID:Europe/Madrid
BEGIN:DAYLIGHT
TZOFFSETFROM:+0100
TZOFFSETTO:+0200
TZNAME:CEST
DTSTART:20200329T010000
END:DAYLIGHT
BEGIN:STANDARD
TZOFFSETFROM:+0200
TZOFFSETTO:+0100
TZNAME:CET
DTSTART:20201025T010000
END:STANDARD
END:VTIMEZONE
BEGIN:VEVENT
DTSTART;TZID=Europe/Madrid:20201105T190000
DTEND;TZID=Europe/Madrid:20201105T200000
DTSTAMP:20260424T223435
CREATED:20201027T153513Z
LAST-MODIFIED:20201030T085743Z
UID:60602-1604602800-1604606400@historico.ateneovalencia.es
SUMMARY:Sensus Communis: “La ONU en su 75 aniversario: retos actuales y futuros”
DESCRIPTION:Las Naciones Unidas celebran su 75º aniversario en un momento en el que el mundo atraviesa grandes trastornos\, agravados por una crisis sanitaria mundial sin precedentes que acarrea graves repercusiones económicas y sociales. ¿Saldremos más fuertes y mejor preparados para trabajar juntos? ¿O crecerán la desconfianza y el aislamiento? El año 2020 debe ser un año de diálogo\, en el que\, como familia humana\, nos reunamos para hablar sobre nuestras prioridades y sobre la forma de construir un futuro mejor para todos. \nEl próximo encuentro del Foro Sensus Communis será el próximo jueves 5 de noviembre a las 19 horas en el Salón Stolz y llega bajoel título "La ONU en su 75 aniversario: retos actuales y futuros" y el ponente será D. Jorge Cardona Llorens\, catedrático de Derecho Internacional Público en la Universitat de València. La conferencia será de manera presencial y Online. Para seguirla de manera interactiva hay que pinchar en el siguiente enlace: \nEnlace sesión Online: https://zoom.us/j/91326838366\n\n\nLa enfermedad por coronavirus (COVID-19) nos recuerda con crudeza la necesidad de cooperar más allá de las fronteras\, los sectores y las generaciones. Nuestra respuesta determinará la rapidez con que se recupere el mundo\, el logro de los Objetivos de Desarrollo Sostenible y la forma en que manejemos los desafíos apremiantes: desde la crisis climática hasta las pandemias\, pasando por las desigualdades\, las nuevas formas de violencia y los cambios rápidos en la tecnología y en nuestras poblaciones. \nSin embargo\, el apoyo a la cooperación mundial flaquea justo cuando necesitamos más que nunca una acción colectiva. En muchos países\, la confianza pública en las instituciones tradicionales se debilita y las relaciones entre los países están bajo presión. ¿Servirá esta pandemia para unir al mundo? ¿O llevará a una mayor desconfianza? El diálogo\, y la acción\, a nivel mundial son ahora más urgentes que nunca. \n\n\nCartel:
URL:https://historico.ateneovalencia.es/evento/sensus-communis-la-onu-en-su-75-aniversario-retos-actuales-y-futuros/
LOCATION:Salón Stolz - Ateneo Mercantil de Valencia\, Plaza del Ayuntamiento\, 18\, Valencia\, España\, Valencia\, Valencia\, 46002\, España
CATEGORIES:Sensus Communis
ATTACH;FMTTYPE=image/jpeg:https://historico.ateneovalencia.es/wp-content/uploads/2020/10/20201105-Sensus-Communis-ONU.jpg
END:VEVENT
BEGIN:VEVENT
DTSTART;TZID=Europe/Madrid:20201118T183000
DTEND;TZID=Europe/Madrid:20201118T200000
DTSTAMP:20260424T223435
CREATED:20200721T104912Z
LAST-MODIFIED:20201105T111602Z
UID:59759-1605724200-1605729600@historico.ateneovalencia.es
SUMMARY:Sensus Communis: “Proyección Rural 2050: acción frente a la despoblación”
DESCRIPTION:El Foro Sensus Communis se reúne de nuevo el próximo miércoles 18 de noviembre a las 18.30 horas en el Salón Stolz del Ateneo Mercantil para tratar un tema de enorme actualidad como es el de la despoblación rural. Un fenómeno que está sucediendo en nuestro país\, pero también en todo el mundo\, ya que hay una cada vez mayor agonía de las poblaciones rurales en detrimento de las ciudades\, además\, de una excesiva migración del interior a la costa. La conferencia también se podrá seguir de manera On line por la plataforma Zoom. \nEnlace a la sesión On line: https://zoom.us/j/92909683053\n\nLa conferencia llega bajo el título "Proyección Rural 2050: acción frente a la despoblación" y los ponentes son dos expertos en sus materias como son D. Yann Javier Medina\, geógrafo\, y D. José Francisco Soriano\, Economista y presidente de SECOT. Ambos nos tratarán de mostrar los efectos de la despoblación rural. \nLa despoblación está en el orden del día de la discusión y preocupación pública en España. Crece la inquietud por los efectos despobladores hasta el punto que es ya "un problema percibido" por los ciudadanos. Es por tanto necesario preparar diagnósticos que analicen tal fenómeno y preparar informes y propuestas políticas que conduzcan a la toma de acciones e iniciativas. \nMáxime en territorios singulares de España en general y muy concretamente a partir de 50 kms de costa en los que se observan\, desde hace tiempo\, indicadores de declive demográfico\, envejecimiento y movilidad emigrar Oria\, causas de la despoblación al referirse a lo que ha sido una pérdida continuada de población rural y en buena medida\, un proceso de movilidad de la población desde núcleos rurales hacia la áreas urbanas y metropolitanas. Creemos que es el momento de iniciar en estudio serio\, profesional y con objetivos claros para invertir esas tendencias. \nCartel:
URL:https://historico.ateneovalencia.es/evento/sensus-communis-despoblacion-rural-2050/
LOCATION:Salón Stolz - Ateneo Mercantil de Valencia\, Plaza del Ayuntamiento\, 18\, Valencia\, España\, Valencia\, Valencia\, 46002\, España
CATEGORIES:Sensus Communis
ATTACH;FMTTYPE=image/jpeg:https://historico.ateneovalencia.es/wp-content/uploads/2020/07/20200916-Sensus-Communis-despoblacion.jpg
END:VEVENT
BEGIN:VEVENT
DTSTART;TZID=Europe/Madrid:20201123T193000
DTEND;TZID=Europe/Madrid:20201123T210000
DTSTAMP:20260424T223435
CREATED:20201121T062610Z
LAST-MODIFIED:20201121T062610Z
UID:60977-1606159800-1606165200@historico.ateneovalencia.es
SUMMARY:"La habilidad de ser proactivo\, no esperar a que te lo den hecho y tener espíritu emprendedor"
DESCRIPTION:El próximo lunes 23 de noviembre a las 19.30 horas llega al Salón Stolz una nueva reunión del Ciclo ‘Cómo afrontar los inicios de la vida profesional en la era post-Covid19’ que organizan el Foro Sensus Communis del Ateneo Mercantil y el Foro Universitas de Análisis Social. Una reunión dirigida a jóvenes entre los 20 y los 35 años que llega bajo el título "La habilidad de ser proactivo\, no esperar a que te lo den hecho y tener espíritu emprendedor" y estará dirigida por el Director de Inversiones de Vida Wealth Management\, D. Vicente Juliá Obarti. \nLas personas proactivas no se sientan a esperar que las cosas pasen por arte de magia: se levantan y hacen que sucedan. Además\, el sentido de responsabilidad se desarrolla de una manera muy interesante\, ya que no existe la afirmación: "ese problema no es mío". Los problemas negativos son vistos como responsabilidad del equipo en su conjunto y no como una carga para ser expuesta y producir desmotivación. \nCartel:\n \n 
URL:https://historico.ateneovalencia.es/evento/la-habilidad-de-ser-proactivo-no-esperar-a-que-te-lo-den-hecho-y-tener-espiritu-emprendedor/
LOCATION:Salón Stolz - Ateneo Mercantil de Valencia\, Plaza del Ayuntamiento\, 18\, Valencia\, España\, Valencia\, Valencia\, 46002\, España
CATEGORIES:Sensus Communis
ATTACH;FMTTYPE=image/jpeg:https://historico.ateneovalencia.es/wp-content/uploads/2020/11/20201123-Ser-Proactivo.jpg
END:VEVENT
END:VCALENDAR