BEGIN:VCALENDAR
VERSION:2.0
PRODID:-//Ateneo Mercantil de Valencia - ECPv6.0.4//NONSGML v1.0//EN
CALSCALE:GREGORIAN
METHOD:PUBLISH
X-ORIGINAL-URL:https://historico.ateneovalencia.es
X-WR-CALDESC:Eventos para Ateneo Mercantil de Valencia
REFRESH-INTERVAL;VALUE=DURATION:PT1H
X-Robots-Tag:noindex
X-PUBLISHED-TTL:PT1H
BEGIN:VTIMEZONE
TZID:Europe/Madrid
BEGIN:DAYLIGHT
TZOFFSETFROM:+0100
TZOFFSETTO:+0200
TZNAME:CEST
DTSTART:20200329T010000
END:DAYLIGHT
BEGIN:STANDARD
TZOFFSETFROM:+0200
TZOFFSETTO:+0100
TZNAME:CET
DTSTART:20201025T010000
END:STANDARD
END:VTIMEZONE
BEGIN:VEVENT
DTSTART;TZID=Europe/Madrid:20200304T193000
DTEND;TZID=Europe/Madrid:20200304T213000
DTSTAMP:20260425T174224
CREATED:20200229T090603Z
LAST-MODIFIED:20200229T090603Z
UID:56518-1583350200-1583357400@historico.ateneovalencia.es
SUMMARY:Sensus Communis: "China\, nueva potencia del siglo XXI. ¿Estamos ante una nueva guerra fría?”
DESCRIPTION:La próxima sesión del Foro Sensus Communis será el miércoles 4 de marzo a las 19.30 horas en la Sala de Ocio del Ateneo Mercantil de Valencia. En la sesión se tratará un tema de enorme actualidad como es la situación de China como la nueva gran potencia económica mundial. La conferencia lleva el título "China\, nueva potencia del siglo XXI. ¿Estamos ante una nueva guerra fría?” y el ponente será el empresario valenciano\, D. José Antonio Granados. \nEl crecimiento exponencial de China ha desbancado a Estados Unidos como la potencia que más crece en el mundo. Los celos de EEUU con China comenzaron en 2019 con un enfrentamiento comercial que muy pronto se convirtió en un conflicto de mayores repercusiones globales. \nExiste una confrontación del gobierno de Trump con China\, eso caló en la opinión pública estadounidense que aumentó la visión desfavorable sobre China de un 47% en 2018 a un 60% en 2019. Sólo el 26% de los estadounidenses tiene una visión favorable de China. Pero lo que comenzó como una guerra comercial (aranceles) se convirtió rápidamente en un cúmulo de otros conflictos: guerra tecnológica (Huawei y la red 5G) y la amenaza de una guerra de divisas (yuan chino frente al dólar). \nCartel:\n \n 
URL:https://historico.ateneovalencia.es/evento/sensus-communis-china-nueva-potencia-del-siglo-xxi-estamos-ante-una-nueva-guerra-fria/
LOCATION:Sala de Ocio - Ateneo Mercantil de Valencia\, Plaza del Ayuntamiento\, 18\, Valencia\, España\, Valencia\, Valencia\, 46002\, España
CATEGORIES:Sensus Communis
ATTACH;FMTTYPE=image/jpeg:https://historico.ateneovalencia.es/wp-content/uploads/2020/02/20200304-Sensus-Communis-Economia-China.jpg
END:VEVENT
END:VCALENDAR