BEGIN:VCALENDAR
VERSION:2.0
PRODID:-//Ateneo Mercantil de Valencia - ECPv6.0.4//NONSGML v1.0//EN
CALSCALE:GREGORIAN
METHOD:PUBLISH
X-ORIGINAL-URL:https://historico.ateneovalencia.es
X-WR-CALDESC:Eventos para Ateneo Mercantil de Valencia
REFRESH-INTERVAL;VALUE=DURATION:PT1H
X-Robots-Tag:noindex
X-PUBLISHED-TTL:PT1H
BEGIN:VTIMEZONE
TZID:Europe/Madrid
BEGIN:DAYLIGHT
TZOFFSETFROM:+0100
TZOFFSETTO:+0200
TZNAME:CEST
DTSTART:20250330T010000
END:DAYLIGHT
BEGIN:STANDARD
TZOFFSETFROM:+0200
TZOFFSETTO:+0100
TZNAME:CET
DTSTART:20251026T010000
END:STANDARD
END:VTIMEZONE
BEGIN:VEVENT
DTSTART;TZID=Europe/Madrid:20250512T193000
DTEND;TZID=Europe/Madrid:20250512T203000
DTSTAMP:20260423T111428
CREATED:20250429T120916Z
LAST-MODIFIED:20250429T120917Z
UID:83762-1747078200-1747081800@historico.ateneovalencia.es
SUMMARY:Foro Universitas Sensus Communis: "Un noviazgo que me haga mejor persona"
DESCRIPTION:El Foro Universitas Sensus Communis\, organizado por el Ateneo Mercantil de Valencia\, la Fundación Universitas de Análisis Social y Free Thinkers\, te invita a una nueva conferencia abierta al público en la que contaremos de nuevo con la psicóloga y divulgadora\, Lucía Pérez. En esta ocasión nos hablará del noviazgo y nos dará unos puntos de vista que nos hará reflexionar. \n¿Cómo saber si es la persona adecuada? Lucía Pérez nos propone mirar el noviazgo no como una prueba de compatibilidad\, sino como un camino para conocerse\, madurar y construir un proyecto común. El diálogo sobre valores\, familia\, dinero o miedos se convierte en clave para una relación sólida y transformadora. Una charla para quienes creen en un amor que saca lo mejor de cada uno. \n🎤 Conferencia: "Un noviazgo que me haga mejor persona"🗓 Lunes 12 de mayo de 2025 – 19:30 h📍 Hall Colonial (6ª planta)\, Ateneo Mercantil de Valencia🎟 Entrada libre y gratuita hasta completar aforo \nImpartida por Lucía Pérez (@cuentaseloalucia)\, psicóloga y divulgadora en redes. \nCartel:
URL:https://historico.ateneovalencia.es/evento/foro-universitas-sensus-communis-un-noviazgo-que-me-haga-mejor-persona/
LOCATION:Hall Restaurante - Ateneo Mercantil de Valencia\, Plaza del Ayuntamiento\, 18\, Valencia\, España\, Valencia\, Valencia\, 46002\, España
CATEGORIES:Sensus Communis
ATTACH;FMTTYPE=image/jpeg:https://historico.ateneovalencia.es/wp-content/uploads/2025/04/20250512-Sensus-Communis-Noviazgo.jpg
END:VEVENT
END:VCALENDAR