BEGIN:VCALENDAR
VERSION:2.0
PRODID:-//Ateneo Mercantil de Valencia - ECPv6.0.4//NONSGML v1.0//EN
CALSCALE:GREGORIAN
METHOD:PUBLISH
X-WR-CALNAME:Ateneo Mercantil de Valencia
X-ORIGINAL-URL:https://historico.ateneovalencia.es
X-WR-CALDESC:Eventos para Ateneo Mercantil de Valencia
REFRESH-INTERVAL;VALUE=DURATION:PT1H
X-Robots-Tag:noindex
X-PUBLISHED-TTL:PT1H
BEGIN:VTIMEZONE
TZID:Europe/Madrid
BEGIN:DAYLIGHT
TZOFFSETFROM:+0100
TZOFFSETTO:+0200
TZNAME:CEST
DTSTART:20250330T010000
END:DAYLIGHT
BEGIN:STANDARD
TZOFFSETFROM:+0200
TZOFFSETTO:+0100
TZNAME:CET
DTSTART:20251026T010000
END:STANDARD
END:VTIMEZONE
BEGIN:VEVENT
DTSTART;TZID=Europe/Madrid:20250508T190000
DTEND;TZID=Europe/Madrid:20250508T210000
DTSTAMP:20260423T111404
CREATED:20250506T115733Z
LAST-MODIFIED:20250506T115734Z
UID:83859-1746730800-1746738000@historico.ateneovalencia.es
SUMMARY:Tertulia Taurina del Ateneo - Jueves Taurinos: "Homenaje a Joselito El Gallo"
DESCRIPTION:La Tertulia Taurina del Ateneo les invita este próximo jueves 8 de mayo de las 19 horas al Ciclo Jueves Taurinos del Ateneo a una Tertulia donde se homenajeará a una de las grandes figuras de la tauromaquia como fue Joselito El Gallo en su 105 aniversario de su trágica muerte en Talavera. Una Tertulia que contará con cuatro voces autorizadas\, cuatro estilos diferentes y cuatro visiones sobre el maestro\, en la que se mezclará la veteranía y la juventud. \nLa Tertulia Taurina del Ateneo rinde homenaje a esta figura fundamental del toreo que murió el pasado 16 de mayo de 1920. \nLa sesión arrancará con Paco Roger\, quien compartirá las noticias más destacadas del mundo taurino actual\, y presentará a los ponentes que nos harán revivir la figura de Joselito: \n\n\nSalvador Chapa\, con leyendas y poemas sobre el torero. \n\n\nNicasio Jiménez\, que leerá dos breves poemas dedicados a Joselito. \n\n\nÁlvaro Meseguer y Lucas Piquer\, dos jóvenes que aportarán una mirada renovada y fresca sobre el legado de Joselito. \n\nCerrando el acto\, de nuevo\, Nicasio Jiménez\, con otros poemas propios.\n\nA las 19:30 h comenzará la tertulia abierta\, donde el público podrá participar y compartir sus impresiones y recuerdos. \nEste encuentro será también la última tertulia abierta antes del parón veraniego\, una ocasión perfecta para celebrar juntos la afición y la memoria de una leyenda del toreo. \nTertulia Taurina del Ateneo Mercantil📅 Jueves 8 de mayo de 2025🕖 De 19:00 a 21:00 h📍 Sala Multiusos – 7.º piso del Ateneo Mercantil de Valencia🎟️ Entrada libre hasta completar aforo \n📌 Dentro del Ciclo “Jueves Taurinos del Ateneo” \nCartel:
URL:https://historico.ateneovalencia.es/evento/tertulia-taurina-del-ateneo-jueves-taurinos-homenaje-a-joselito-el-gallo/
LOCATION:Sala Multiusos - Tertulia Taurina
CATEGORIES:Tertulia Taurina
ATTACH;FMTTYPE=image/jpeg:https://historico.ateneovalencia.es/wp-content/uploads/2025/05/20250508-Tertulia-Taurina-Joselito-1.jpg
END:VEVENT
END:VCALENDAR