BEGIN:VCALENDAR
VERSION:2.0
PRODID:-//Ateneo Mercantil de Valencia - ECPv6.0.4//NONSGML v1.0//EN
CALSCALE:GREGORIAN
METHOD:PUBLISH
X-ORIGINAL-URL:https://historico.ateneovalencia.es
X-WR-CALDESC:Eventos para Ateneo Mercantil de Valencia
REFRESH-INTERVAL;VALUE=DURATION:PT1H
X-Robots-Tag:noindex
X-PUBLISHED-TTL:PT1H
BEGIN:VTIMEZONE
TZID:Europe/Madrid
BEGIN:DAYLIGHT
TZOFFSETFROM:+0100
TZOFFSETTO:+0200
TZNAME:CEST
DTSTART:20240331T010000
END:DAYLIGHT
BEGIN:STANDARD
TZOFFSETFROM:+0200
TZOFFSETTO:+0100
TZNAME:CET
DTSTART:20241027T010000
END:STANDARD
END:VTIMEZONE
BEGIN:VEVENT
DTSTART;TZID=Europe/Madrid:20241021T193000
DTEND;TZID=Europe/Madrid:20241021T203000
DTSTAMP:20260422T000223
CREATED:20241020T170306Z
LAST-MODIFIED:20241020T171038Z
UID:81895-1729539000-1729542600@historico.ateneovalencia.es
SUMMARY:Foro Sensus Communis: Aprender a mirar: a uno mismo y a la realidad
DESCRIPTION:El próximo día 21 de octubre la psicóloga Lucía Pérez imparte una nueva sesión del Foro Sensus Communis en la que hablará sobre cómo debemos percibir nuestro entorno y a nosotros mismos. \nCon la finalidad de evitar caer en comparaciones y perder el rumbo al ir mirando hacia otro lado\, la sesión tiene como finalidad responder a la cuestión sobre cómo debemos encontrar el equilibrio entre como nos miramos a nosotros mismos y como mirar a nuestro entorno. \nTítulo: Aprender a mirar: a uno mismo y a la realidad \nConferenciante: Lucía Pérez\, psicóloga \nDía: Lunes\, 21 de octubre de 2024 \nHora: 19.30 horas \nLugar: Hall Colonial (6ª planta) \nEntrada libre y gratuita hasta completar aforo. \nCartel:
URL:https://historico.ateneovalencia.es/evento/foro-sensus-communis-aprender-a-mirar-a-uno-mismo-y-a-la-realidad/
LOCATION:Hall Restaurante - Ateneo Mercantil de Valencia\, Plaza del Ayuntamiento\, 18\, Valencia\, España\, Valencia\, Valencia\, 46002\, España
CATEGORIES:Sensus Communis
ATTACH;FMTTYPE=image/jpeg:https://historico.ateneovalencia.es/wp-content/uploads/2024/10/20241021-Sensus-Communis-Mirar-a-uno-mismo.jpg
END:VEVENT
END:VCALENDAR