BEGIN:VCALENDAR
VERSION:2.0
PRODID:-//Ateneo Mercantil de Valencia - ECPv6.0.4//NONSGML v1.0//EN
CALSCALE:GREGORIAN
METHOD:PUBLISH
X-WR-CALNAME:Ateneo Mercantil de Valencia
X-ORIGINAL-URL:https://historico.ateneovalencia.es
X-WR-CALDESC:Eventos para Ateneo Mercantil de Valencia
REFRESH-INTERVAL;VALUE=DURATION:PT1H
X-Robots-Tag:noindex
X-PUBLISHED-TTL:PT1H
BEGIN:VTIMEZONE
TZID:Europe/Madrid
BEGIN:DAYLIGHT
TZOFFSETFROM:+0100
TZOFFSETTO:+0200
TZNAME:CEST
DTSTART:20200329T010000
END:DAYLIGHT
BEGIN:STANDARD
TZOFFSETFROM:+0200
TZOFFSETTO:+0100
TZNAME:CET
DTSTART:20201025T010000
END:STANDARD
END:VTIMEZONE
BEGIN:VEVENT
DTSTART;TZID=Europe/Madrid:20200417T190000
DTEND;TZID=Europe/Madrid:20200417T200000
DTSTAMP:20260426T012103
CREATED:20200410T103119Z
LAST-MODIFIED:20200416T183849Z
UID:58284-1587150000-1587153600@historico.ateneovalencia.es
SUMMARY:Webinar del Foro Sensus Communis: "Crisis de ideales en la Unión Europea"
DESCRIPTION:El próximo viernes 17 de abril\, a las 19 horas\, se realizará una nueva reunión del Foro Sensus Communis\, esta vez gracias a la webinar que contará con la intervención del Profesor Doctor Manuel Sanchis i Marco\, Doctor en Filosofía y Profesor Titular de Economía Aplicada de la Universidad de Valencia\, y que llega bajo el título: "Crisis de ideales en la Unión Europea". \nEuropa hará frente al COVID-19 con más de medio billón de euros; tras muchas reuiones el Eurogrupo aprobó la medida para mitigar el impacto del coronavirus\, pero las diferencias entre el Norte y el Sur son visibles a nivel económico y en la respuesta a la pandemia: ¿Falta solidaridad? ¿Resistirá al virus el proyecto europeo tras el Brexit? \nLa presentación estará a cargo de D. Carlos Climent Durán\, Vicepresidente de la Fundación del Ateneo de Valencia. \nImportante: Si quieres participar de una forma más activa\, los 20 primeros espectadores que accedan a la sesión\, podrán vivirlo como un ponente y estar presentes con su cámara. \nEnlace a la sesión del viernes día 17 de abril: \nhttps://zoom.us/webinar/register/WN_vmHuy-b7RleHwFPO7Q2d_Q\nCartel:
URL:https://historico.ateneovalencia.es/evento/webinar-del-foro-sensus-communis-crisis-de-ideales-en-la-union-europea/
LOCATION:Ateneo Mercantil Valencia\, Plaza del Ayuntamiento 18\, Valencia\, Valencia\, 46002\, España
CATEGORIES:Sensus Communis
ATTACH;FMTTYPE=image/jpeg:https://historico.ateneovalencia.es/wp-content/uploads/2020/04/20200417-Sensus-Communis-Webinar-Ideales-UE.jpg
END:VEVENT
END:VCALENDAR