BEGIN:VCALENDAR
VERSION:2.0
PRODID:-//Ateneo Mercantil de Valencia - ECPv6.0.4//NONSGML v1.0//EN
CALSCALE:GREGORIAN
METHOD:PUBLISH
X-ORIGINAL-URL:https://historico.ateneovalencia.es
X-WR-CALDESC:Eventos para Ateneo Mercantil de Valencia
REFRESH-INTERVAL;VALUE=DURATION:PT1H
X-Robots-Tag:noindex
X-PUBLISHED-TTL:PT1H
BEGIN:VTIMEZONE
TZID:Europe/Madrid
BEGIN:DAYLIGHT
TZOFFSETFROM:+0100
TZOFFSETTO:+0200
TZNAME:CEST
DTSTART:20200329T010000
END:DAYLIGHT
BEGIN:STANDARD
TZOFFSETFROM:+0200
TZOFFSETTO:+0100
TZNAME:CET
DTSTART:20201025T010000
END:STANDARD
END:VTIMEZONE
BEGIN:VEVENT
DTSTART;TZID=Europe/Madrid:20200130T190000
DTEND;TZID=Europe/Madrid:20200130T210000
DTSTAMP:20260425T193815
CREATED:20200123T110921Z
LAST-MODIFIED:20200123T112355Z
UID:55597-1580410800-1580418000@historico.ateneovalencia.es
SUMMARY:Tertulia Taurina: "La práctica veterinaria en el toro de lidia"
DESCRIPTION:La próxima Tertulia Taurina del Ateneo Mercantil tendrá un invitado especial\, ya que el próximo jueves 30 de enero a las 19 horas desfilará por el Salón Sorolla el licenciado en Veterinaria por la Universidad Cardenal Herrera-CEU\, D. Vicente Soriano Benet\, quién traerá un tema muy interesante como es el de la práctica veterinaria en el toro de lidia. Será entrevistado por los integrantes de la Comisión Taurina de la Tertulia Taurina del Ateneo. \nConoce de cerca la labor de un veterinario taurino\, en qué consiste el reconocimiento de los toros\, la comprobación documental de los animales\, el reconocimiento de los caballos de picar\, étc. Aunque es la afición y el amor por el toro\, las dos premisas indispensables que empujan a la inmensa mayoría de los veterinarios a participar en el espectáculo de la tauromaquia. \nCartel:
URL:https://historico.ateneovalencia.es/evento/tertulia-taurina-la-practica-veterinaria-en-el-toro-de-lidia/
LOCATION:Salón Sorolla - Ateneo Mercantil de Valencia\, Plaza del Ayuntamiento 18\, Valencia\, Valencia\, 46002\, España
CATEGORIES:Tertulia Taurina
ATTACH;FMTTYPE=image/jpeg:https://historico.ateneovalencia.es/wp-content/uploads/2020/01/20200130-Tertulia-Taurina-Veterinario.jpg
END:VEVENT
BEGIN:VEVENT
DTSTART;TZID=Europe/Madrid:20200130T193000
DTEND;TZID=Europe/Madrid:20200130T210000
DTSTAMP:20260425T193815
CREATED:20200114T095228Z
LAST-MODIFIED:20200123T090518Z
UID:55383-1580412600-1580418000@historico.ateneovalencia.es
SUMMARY:Sensus Communis: "García Lorca y la Generación del 27"
DESCRIPTION:El próximo foro Sensus Communis llega a la Sala de Ocio a las 19.30 horas el próximo jueves 30 de enero. En esta nueva reunión del foro se hablará sobre la figura del poeta Federico García Lorca y de la Generación del 27 y la introducción correrá a cargo de D. Francisco Cervera Martínez\, especilista en cooperación agrícola\, estudiante de Filosofía y Humanidades y de Ciencias de la Salud por la Universitat de València. \nLorca pertenece a la Generación del 27\, un soplo de vientos regeneradores del vanguardismo estético que había hasta entonces en Europa. La elección de esta fecha para la denominación del grupo tiene su origen en que ese año\, se reunieron en Sevilla buena parte de estos escritores para homenajear a Góngora en el tercer aniversario de su muerte. Buscaban una renovación del concepto de la literatura y del lenguaje poético. Los poetas más destacados de esta época son: Pedro Salinas\, Jorge Guillén\, Gerardo Diego\, Dámaso Alonso\, Vicente Aleixandre… Lorca\, como miembro de la Generación del 27\, tiene ciertas características comunes. \nCartel:
URL:https://historico.ateneovalencia.es/evento/sensus-communis-garcia-lorca-y-la-generacion-del-27/
LOCATION:Sala de Ocio - Ateneo Mercantil de Valencia\, Plaza del Ayuntamiento\, 18\, Valencia\, España\, Valencia\, Valencia\, 46002\, España
CATEGORIES:Sensus Communis
ATTACH;FMTTYPE=image/jpeg:https://historico.ateneovalencia.es/wp-content/uploads/2020/01/20200121-Sensus-Communis-Garcia-Lorca.jpg
END:VEVENT
END:VCALENDAR