BEGIN:VCALENDAR
VERSION:2.0
PRODID:-//Ateneo Mercantil de Valencia - ECPv6.0.4//NONSGML v1.0//EN
CALSCALE:GREGORIAN
METHOD:PUBLISH
X-ORIGINAL-URL:https://historico.ateneovalencia.es
X-WR-CALDESC:Eventos para Ateneo Mercantil de Valencia
REFRESH-INTERVAL;VALUE=DURATION:PT1H
X-Robots-Tag:noindex
X-PUBLISHED-TTL:PT1H
BEGIN:VTIMEZONE
TZID:Europe/Madrid
BEGIN:DAYLIGHT
TZOFFSETFROM:+0100
TZOFFSETTO:+0200
TZNAME:CEST
DTSTART:20200329T010000
END:DAYLIGHT
BEGIN:STANDARD
TZOFFSETFROM:+0200
TZOFFSETTO:+0100
TZNAME:CET
DTSTART:20201025T010000
END:STANDARD
END:VTIMEZONE
BEGIN:VEVENT
DTSTART;TZID=Europe/Madrid:20200116T190000
DTEND;TZID=Europe/Madrid:20200116T210000
DTSTAMP:20260422T191954
CREATED:20200113T103228Z
LAST-MODIFIED:20200113T103427Z
UID:55320-1579201200-1579208400@historico.ateneovalencia.es
SUMMARY:Tertulia Taurina: "Toros en la Camarga"
DESCRIPTION:La próxima reunión de la Tertulia Taurina del Ateneo Mercantil será este jueves 16 de enero a las 19 horas en el séptimo piso del edificio\, en la Sala Multiusos-Tertulia Taurina. Como continuación del ciclo los toros en Francia que inició el tertuliano Antonio Crespo\, Nicasio Jiménez llevará a cabo el tema del día con "Los Toros en la Camarga" y a continuación se celebrará la habitual tertulia abierta con la participación de los asistentes. La cultura taurina camarguesa es digna de admiración. El toro autóctono es el gran protagonista de las principales fiestas\, un enigmático animal como es el toro de la Camarga. \nCartel:
URL:https://historico.ateneovalencia.es/evento/tertulia-taurina-toros-en-la-camarga/
LOCATION:Sala Multiusos - Tertulia Taurina
CATEGORIES:Tertulia Taurina
ATTACH;FMTTYPE=image/jpeg:https://historico.ateneovalencia.es/wp-content/uploads/2020/01/20200116-Tertulia-Taurina-Toros-Camarga.jpg
END:VEVENT
END:VCALENDAR