BEGIN:VCALENDAR
VERSION:2.0
PRODID:-//Ateneo Mercantil de Valencia - ECPv6.0.4//NONSGML v1.0//EN
CALSCALE:GREGORIAN
METHOD:PUBLISH
X-ORIGINAL-URL:https://historico.ateneovalencia.es
X-WR-CALDESC:Eventos para Ateneo Mercantil de Valencia
REFRESH-INTERVAL;VALUE=DURATION:PT1H
X-Robots-Tag:noindex
X-PUBLISHED-TTL:PT1H
BEGIN:VTIMEZONE
TZID:Europe/Madrid
BEGIN:DAYLIGHT
TZOFFSETFROM:+0100
TZOFFSETTO:+0200
TZNAME:CEST
DTSTART:20190331T010000
END:DAYLIGHT
BEGIN:STANDARD
TZOFFSETFROM:+0200
TZOFFSETTO:+0100
TZNAME:CET
DTSTART:20191027T010000
END:STANDARD
END:VTIMEZONE
BEGIN:VEVENT
DTSTART;TZID=Europe/Madrid:20191127T193000
DTEND;TZID=Europe/Madrid:20191127T213000
DTSTAMP:20260422T192736
CREATED:20191118T110246Z
LAST-MODIFIED:20191118T110246Z
UID:54078-1574883000-1574890200@historico.ateneovalencia.es
SUMMARY:Sensus Communis: "Periodismo lento y reflexivo"
DESCRIPTION:En una época en la que la inmediatez manda en el periodismo\, cada vez está más instaurado el periodismo y reflexivo. Un periodismo que ha emergido a primera plana como reacción a la inmediatez y a la primicia; un periodismo que invita a que se debe volver a repensar los temas\, que se debe regresar a la produccción con calma y a consumir una información rigurosa\, creativa y de calidad.  Cada vez hay más lectores que buscan informaciones especializadas y una recepción periodística cada vez más pausada. \nEl Foro de Sensus Communis llega el próximo miércoles 27 de noviembre a las 19.30 horas en la Sala de Ocio y el tema escogido es el "Periodismo lento y reflexivo" que traerá el escritor\, doctor en periodismo y profesor emérito\, D. Carlos Pajuelo de Arcos. \nCartel:
URL:https://historico.ateneovalencia.es/evento/sensus-communis-periodismo-lento-y-reflexivo/
LOCATION:Sala de Ocio - Ateneo Mercantil de Valencia\, Plaza del Ayuntamiento\, 18\, Valencia\, España\, Valencia\, Valencia\, 46002\, España
CATEGORIES:Sensus Communis
ATTACH;FMTTYPE=image/jpeg:https://historico.ateneovalencia.es/wp-content/uploads/2019/11/20191127-Sensus-Communis-Periodismo-Lento.jpg
END:VEVENT
END:VCALENDAR