BEGIN:VCALENDAR
VERSION:2.0
PRODID:-//Ateneo Mercantil de Valencia - ECPv6.0.4//NONSGML v1.0//EN
CALSCALE:GREGORIAN
METHOD:PUBLISH
X-WR-CALNAME:Ateneo Mercantil de Valencia
X-ORIGINAL-URL:https://historico.ateneovalencia.es
X-WR-CALDESC:Eventos para Ateneo Mercantil de Valencia
REFRESH-INTERVAL;VALUE=DURATION:PT1H
X-Robots-Tag:noindex
X-PUBLISHED-TTL:PT1H
BEGIN:VTIMEZONE
TZID:Europe/Madrid
BEGIN:DAYLIGHT
TZOFFSETFROM:+0100
TZOFFSETTO:+0200
TZNAME:CEST
DTSTART:20190331T010000
END:DAYLIGHT
BEGIN:STANDARD
TZOFFSETFROM:+0200
TZOFFSETTO:+0100
TZNAME:CET
DTSTART:20191027T010000
END:STANDARD
END:VTIMEZONE
BEGIN:VEVENT
DTSTART;TZID=Europe/Madrid:20191002T193000
DTEND;TZID=Europe/Madrid:20191002T213000
DTSTAMP:20260425T122620
CREATED:20190923T083225Z
LAST-MODIFIED:20190923T083259Z
UID:51032-1570044600-1570051800@historico.ateneovalencia.es
SUMMARY:Sensus Communis: "El efecto Lucifer o por qué la gente buena se vuelve mala"
DESCRIPTION:La próxima sesión del Foro Sensus Communis será el próximo miércoles 2 de octubre a las 19.30 horas en la Sala de Ocio del Ateneo Mercantil de Valencia. El tema escogido será el del 'Efecto Lucifer o porqué la gente buena se vuelve mala" y el ponente será el jurista y criminólogo\, D. Carlos Climent Durán. Todos tenemos una parte buena y una parte mala. La que destaquemos dependerá de que se dé una situación concreta que favorezca a una u otra versión de nosotros mismos. \nSeguramente en algún momento de nuestras vidas nos hemos planteado la incógnita: "Si las circunstancias me obligan\, ¿qué estaría dispuesto a hacer para salvar mi vida?" el psicólogo e investigador Phillip Zimbardo afirma que todos podemos convertirnos en torturadores\, todo depende de que si se dan o no las condiciones necesarias para que la gente buena se vuelva mala. Este fenómeno es conocido como el 'Efecto Lucifer'. \nTextos explicativos de obligatoria lectura para acudir a la mesa de debate\nEl efecto Lucifer y el progreso moral\nEl efecto Lucifer o por qué la gente buena se vuelve mala\nEl efecto Lucifer o por qué podemos cometer actos malvados\nCartel:
URL:https://historico.ateneovalencia.es/evento/sensus-communis-el-efecto-lucifer-o-por-que-la-gente-buena-se-vuelve-mala/
LOCATION:Sala de Ocio - Ateneo Mercantil de Valencia\, Plaza del Ayuntamiento\, 18\, Valencia\, España\, Valencia\, Valencia\, 46002\, España
CATEGORIES:Sensus Communis
ATTACH;FMTTYPE=image/jpeg:https://historico.ateneovalencia.es/wp-content/uploads/2019/09/20191002-Sensus-Communis-Lucifer.jpg
END:VEVENT
END:VCALENDAR