BEGIN:VCALENDAR
VERSION:2.0
PRODID:-//Ateneo Mercantil de Valencia - ECPv6.0.4//NONSGML v1.0//EN
CALSCALE:GREGORIAN
METHOD:PUBLISH
X-ORIGINAL-URL:https://historico.ateneovalencia.es
X-WR-CALDESC:Eventos para Ateneo Mercantil de Valencia
REFRESH-INTERVAL;VALUE=DURATION:PT1H
X-Robots-Tag:noindex
X-PUBLISHED-TTL:PT1H
BEGIN:VTIMEZONE
TZID:Europe/Madrid
BEGIN:DAYLIGHT
TZOFFSETFROM:+0100
TZOFFSETTO:+0200
TZNAME:CEST
DTSTART:20190331T010000
END:DAYLIGHT
BEGIN:STANDARD
TZOFFSETFROM:+0200
TZOFFSETTO:+0100
TZNAME:CET
DTSTART:20191027T010000
END:STANDARD
END:VTIMEZONE
BEGIN:VEVENT
DTSTART;TZID=Europe/Madrid:20190703T193000
DTEND;TZID=Europe/Madrid:20190703T210000
DTSTAMP:20260423T085639
CREATED:20190701T104813Z
LAST-MODIFIED:20190701T104813Z
UID:49306-1562182200-1562187600@historico.ateneovalencia.es
SUMMARY:Sensus Communis: "El síndrome del nido vacío"
DESCRIPTION:El próximo miércoles 3 de julio a las 19.30 horas en la Sala de Ocio se celebrará el último Sensus Communis de este curso con la participación del habitual contertulio Francisco Bernal\, quien ha sido el que ha propuesto el debate sobre "El síndrome del nido vacío". \nEl 'síndrome del nido vacío' es un conjunto de sentimientos negativos como la tristeza\, el vacío\, la soledad\, la melancolía\, e incluso la ansiedad o la irritabilidad\, que experimentan los padres cuando sus hijos se marchan definitivamente de casa. El sentimiento de soledad es el más importante de todos\, y puede aparecer ante la ausencia de uno o varios de sus hijos. En los padres existe una sensación de incertidumbre cuando los hijos se van de casa y suele ser un momento complicado en la vida de la pareja. \nCartel:
URL:https://historico.ateneovalencia.es/evento/sensus-communis-el-sindrome-del-nido-vacio/
LOCATION:Sala de Ocio - Ateneo Mercantil de Valencia\, Plaza del Ayuntamiento\, 18\, Valencia\, España\, Valencia\, Valencia\, 46002\, España
CATEGORIES:Sensus Communis
ATTACH;FMTTYPE=image/jpeg:https://historico.ateneovalencia.es/wp-content/uploads/2019/07/20190703-Sensus-Communis-Nido-Vacío.jpg
END:VEVENT
END:VCALENDAR