BEGIN:VCALENDAR
VERSION:2.0
PRODID:-//Ateneo Mercantil de Valencia - ECPv6.0.4//NONSGML v1.0//EN
CALSCALE:GREGORIAN
METHOD:PUBLISH
X-ORIGINAL-URL:https://historico.ateneovalencia.es
X-WR-CALDESC:Eventos para Ateneo Mercantil de Valencia
REFRESH-INTERVAL;VALUE=DURATION:PT1H
X-Robots-Tag:noindex
X-PUBLISHED-TTL:PT1H
BEGIN:VTIMEZONE
TZID:Europe/Madrid
BEGIN:DAYLIGHT
TZOFFSETFROM:+0100
TZOFFSETTO:+0200
TZNAME:CEST
DTSTART:20190331T010000
END:DAYLIGHT
BEGIN:STANDARD
TZOFFSETFROM:+0200
TZOFFSETTO:+0100
TZNAME:CET
DTSTART:20191027T010000
END:STANDARD
END:VTIMEZONE
BEGIN:VEVENT
DTSTART;TZID=Europe/Madrid:20190619T193000
DTEND;TZID=Europe/Madrid:20190619T210000
DTSTAMP:20260421T223014
CREATED:20190611T064048Z
LAST-MODIFIED:20190611T064048Z
UID:48665-1560972600-1560978000@historico.ateneovalencia.es
SUMMARY:Sensus Communis: "El Ateneo de Valencia y la Unión Europea en 1931"
DESCRIPTION:Nueva reunión del Sensus Communis el próximo miércoles 19 de junio a las 19.30 horas en la Sala de Ocio. Este nuevo debate contará con la presencia del vicepresidente 3º del Ateneo Mercantil de Valencia y abogado\, D. Ignacio Carrau Criado para hablar sobre un tema de enorme importancia en nuestra casa como es la vocación europeísta del Ateneo Mercantil a lo largo de la historia y como ya en la década de los 30\, hace prácticamente 90 años\, en nuestra casa ya se hablaba de unión de países europeos para compabatir los problemas sociales y económicos y de paso zanjar cualquier atisbo de guerra entre países vecinos como ocurrió años después en la Segunda Guerra Mundial. \nEl debate abierto llega bajo el título: "El Ateneo de Valencia y la Unión Europea en 1931"\, ya que esa vocación europeísta que tenía el Ateneo se plasmó en un escrito dirigido el 10 de enero de 1931 al Duque de Alba\, Ministro de Estado\, Delegado de España en la Comisión de Estudios para la Unión Europea. En dicho escrito se exteriorizaba el pleno apoyo del Ateneo Mercantil al proyecto de Unión Europea\, que ya entonces se estaba moviendo entre los ilustrados franceses. Una buena manera de reflexionar sobre un proyecto como el de la UE  que continúa en plena fase de desarrollo y contribuirá a consolidar nuestras ideas sobre lo que significa la Unión Europea para todos nosotros. \nCartel:
URL:https://historico.ateneovalencia.es/evento/sensus-communis-el-ateneo-de-valencia-y-la-union-europea-en-1931/
LOCATION:Sala de Ocio - Ateneo Mercantil de Valencia\, Plaza del Ayuntamiento\, 18\, Valencia\, España\, Valencia\, Valencia\, 46002\, España
CATEGORIES:Sensus Communis
ATTACH;FMTTYPE=image/jpeg:https://historico.ateneovalencia.es/wp-content/uploads/2019/06/20190619-Sensus-Communis-UE-y-Ateneo-1931.jpg
END:VEVENT
END:VCALENDAR