BEGIN:VCALENDAR
VERSION:2.0
PRODID:-//Ateneo Mercantil de Valencia - ECPv6.0.4//NONSGML v1.0//EN
CALSCALE:GREGORIAN
METHOD:PUBLISH
X-ORIGINAL-URL:https://historico.ateneovalencia.es
X-WR-CALDESC:Eventos para Ateneo Mercantil de Valencia
REFRESH-INTERVAL;VALUE=DURATION:PT1H
X-Robots-Tag:noindex
X-PUBLISHED-TTL:PT1H
BEGIN:VTIMEZONE
TZID:Europe/Madrid
BEGIN:DAYLIGHT
TZOFFSETFROM:+0100
TZOFFSETTO:+0200
TZNAME:CEST
DTSTART:20190331T010000
END:DAYLIGHT
BEGIN:STANDARD
TZOFFSETFROM:+0200
TZOFFSETTO:+0100
TZNAME:CET
DTSTART:20191027T010000
END:STANDARD
END:VTIMEZONE
BEGIN:VEVENT
DTSTART;TZID=Europe/Madrid:20190603T190000
DTEND;TZID=Europe/Madrid:20190603T203000
DTSTAMP:20260421T223940
CREATED:20190408T120013Z
LAST-MODIFIED:20190426T102901Z
UID:46610-1559588400-1559593800@historico.ateneovalencia.es
SUMMARY:Ciclo Otras Tertulias: "Pensiones. ¿Cómo quedarán al final?"
DESCRIPTION:El Ciclo Otras Tertulias llega el próximo lunes 3 de junio a las 19 horas al Salón Sorolla con una conferencia en la que se tratará el tema de las pensiones\, tras suspenderse hace unas semanas. El socio ateneísta\, D. Juan Manuel García Puchol será el ponente de una conferencia en la que se informará del futuro de las pensiones en nuestro país. Los economistas lo único que pueden es analizar los datos económicos pasados y presentes\, y desde ese punto de partida usar predicciones de variables a futuro y llegar a conclusiones. El número de pensiones que se cobran en España es de más de 10 millones. \nEl sistema de pensiones públicas en España tiene varios futuros posibles\, pero lo que parece claro es que hace más de 20 años los economistas ya alertaron del problema que la pirámide de población supondría a partir de que el Baby Boom cobrara pensiones. Por lo que urge reformar el sistema. La solución de pagar cada vez más impuestos para cubrir el déficit de la Seguridad Social no puede ser la única solución al problema. Además\, entra en el debate las pensiones privadas. \nUn sistema de pensiones privado pero hoy son obsoletos y no son una buena herramienta para ahorrar a largo plazo; sí que lo son los fondos de inversión\, pero no son sencillos sin una cultura financiera adecuada\, por lo que no hay una buena planificación financiera para la jubilación. \nCartel:
URL:https://historico.ateneovalencia.es/evento/ciclo-otras-tertulias-pensiones-como-quedaran-al-final/
LOCATION:Salón Sorolla - Ateneo Mercantil de Valencia\, Plaza del Ayuntamiento 18\, Valencia\, Valencia\, 46002\, España
CATEGORIES:Ciclo Otras Tertulias
ATTACH;FMTTYPE=image/jpeg:https://historico.ateneovalencia.es/wp-content/uploads/2019/04/20190415-Ciclo-Otras-Tertulias-Pensiones.jpg
END:VEVENT
END:VCALENDAR