BEGIN:VCALENDAR
VERSION:2.0
PRODID:-//Ateneo Mercantil de Valencia - ECPv6.0.4//NONSGML v1.0//EN
CALSCALE:GREGORIAN
METHOD:PUBLISH
X-ORIGINAL-URL:https://historico.ateneovalencia.es
X-WR-CALDESC:Eventos para Ateneo Mercantil de Valencia
REFRESH-INTERVAL;VALUE=DURATION:PT1H
X-Robots-Tag:noindex
X-PUBLISHED-TTL:PT1H
BEGIN:VTIMEZONE
TZID:Europe/Madrid
BEGIN:DAYLIGHT
TZOFFSETFROM:+0100
TZOFFSETTO:+0200
TZNAME:CEST
DTSTART:20190331T010000
END:DAYLIGHT
BEGIN:STANDARD
TZOFFSETFROM:+0200
TZOFFSETTO:+0100
TZNAME:CET
DTSTART:20191027T010000
END:STANDARD
END:VTIMEZONE
BEGIN:VEVENT
DTSTART;TZID=Europe/Madrid:20190528T180000
DTEND;TZID=Europe/Madrid:20190528T193000
DTSTAMP:20260422T192831
CREATED:20190426T092943Z
LAST-MODIFIED:20190426T092943Z
UID:46983-1559066400-1559071800@historico.ateneovalencia.es
SUMMARY:Ciclo Otras Tertulias: "Guerra Civil: Stukas sobre Castellón"
DESCRIPTION:Se cumplen 80 años del fin de la Guerra Civil Española y el Ateneo Mercantil de Valencia trae al Salón Sorolla un episodio que ha resultado complejo como el 'Experimento Stuka'. El próximo 28 de mayo a las 18 horas llega la conferencia "Guerra Civil: Stukas sobre Castellón" en la que el historiador militar\, D. Carlos Precioso\, ejercerá de moderador en una mesa redonda que traerá a dos especialistas de la Guerra Civil e historiadores aeronáuticos y militares y a un periodista para tratar de esclarecer el bombardeo de la Legión Condor en cuatro pueblos de Castellón. \nLos dos especialistas en la materia son los historiadores valencianos D. Carlos Mallench Sanz y D. Blas Vicente Marco\, historiadores aeronáuticos y militares y especialistas en la Guerra Civil. Y acompañándoles también estará el periodista y Redactor Jefe de la Revista Plaza\, D. Javier Cavanilles\, quien ha publicado varios reportajes en los que recogió el estudio de los dos miembros de 'Muntanyes de Guerra\, Grup d'Estudis de la Batalla de Llevant'\, antes nombrados. \n\n\nPara llegar hasta las conclusiones finales del estudio hay que empezar por el principio: Una cita en un libro llevó a un aficionado a la historia a descubrir uno de los grandes misterios de la Guerra Civil: la orden secreta de Hitler a la Legión Cóndor para bombardear cuatro pueblos de la comarca castellonense de El Maestrazgo (Albocàsser\, Ares del Maestrat\, Benassal y Vilar de Canes) en mayo de 1938 por tres Junkers Ju 87A Stukas para probar armas que luego se utilizarían en la II Guerra Mundial. Una historia terrible\, pero que varios historiadores han destacado que no fue real. Una polémica que incluso llegó al Senado. \nUna historia que apareció por primera vez en las últimas páginas de La Guerra Civil española\, el best seller del historiador británico Antony Beevor. Una investigación realizada por el comandante Leopoldo Függer y una referencia a un documento: BA-MA\, RL 35/34. La mayoría lo hubiera dejado ahí\, pero a Óscar Vives (profesor de física en la Universitat de València y vecino de Benassal) le picó la curiosidad y decidió llegar hasta el final. Se acabó llevando a cabo un documental\, pero la historia ponen en duda varios pasajes de este archivo documental. \nCartel:
URL:https://historico.ateneovalencia.es/evento/ciclo-otras-tertulias-guerra-civil-stukas-sobre-castellon/
LOCATION:Salón Sorolla - Ateneo Mercantil de Valencia\, Plaza del Ayuntamiento 18\, Valencia\, Valencia\, 46002\, España
CATEGORIES:Ciclo Otras Tertulias
ATTACH;FMTTYPE=image/jpeg:https://historico.ateneovalencia.es/wp-content/uploads/2019/04/20190528-Otras-Tertulias-Experimento-Stuka.jpg
END:VEVENT
END:VCALENDAR