BEGIN:VCALENDAR
VERSION:2.0
PRODID:-//Ateneo Mercantil de Valencia - ECPv6.0.4//NONSGML v1.0//EN
CALSCALE:GREGORIAN
METHOD:PUBLISH
X-ORIGINAL-URL:https://historico.ateneovalencia.es
X-WR-CALDESC:Eventos para Ateneo Mercantil de Valencia
REFRESH-INTERVAL;VALUE=DURATION:PT1H
X-Robots-Tag:noindex
X-PUBLISHED-TTL:PT1H
BEGIN:VTIMEZONE
TZID:Europe/Madrid
BEGIN:DAYLIGHT
TZOFFSETFROM:+0100
TZOFFSETTO:+0200
TZNAME:CEST
DTSTART:20190331T010000
END:DAYLIGHT
BEGIN:STANDARD
TZOFFSETFROM:+0200
TZOFFSETTO:+0100
TZNAME:CET
DTSTART:20191027T010000
END:STANDARD
END:VTIMEZONE
BEGIN:VEVENT
DTSTART;TZID=Europe/Madrid:20190522T190000
DTEND;TZID=Europe/Madrid:20190522T210000
DTSTAMP:20260422T162116
CREATED:20190502T123143Z
LAST-MODIFIED:20190506T115211Z
UID:47206-1558551600-1558558800@historico.ateneovalencia.es
SUMMARY:Ciclo Otras Tertulias: "Los mercados bursátiles en un entorno global"
DESCRIPTION:El Ciclo Otras Tertulias regresa al Ateneo Mercantil el próximo miércoles 22 de mayo con una interesante conferencia que se titula: "Los mercados Bursátiles en un entorno global" y que dará el master en Merdos Internacionales por la Universidad de Valencia\, D. Vicente Pardo Pineda. \nLa evolución de los mercados financieros durante en la segunda mitad de 2018\, estuvo condicionada por tres factores fundamentales: El proceso de normalización monetaria de los principales bancos centrales\, la aparición de tensiones proteccionistas y la desaceleración del ciclo económico global. \nEl entorno de abundante liquidez y confianza en la recuperación económica vigente durante 2017 dio paso a un escenario de reducción gradual de la liquidez\, tipos de interés de la Reserva Federal (Fed) más elevados e incertidumbre creciente sobre la sostenibilidad del crecimiento económico mundial\, fruto de unas condiciones de financiación menos benignas y del potencial impacto de las tensiones comerciales entre Estados Unidos y China. En este contexto\, ya durante los primeros meses de 2018 los mercados financieros se vieron expuestos a grandes turbulencias. Pero\, qué nos espera en esta segunda mitad del año 2019 y en 2020. En esta conferencia sabrás cómo se comportan los mercados en el mundo... \nCartel:
URL:https://historico.ateneovalencia.es/evento/ciclo-otras-tertulias-los-mercados-bursatiles-en-un-entorno-global/
LOCATION:Salón Sorolla - Ateneo Mercantil de Valencia\, Plaza del Ayuntamiento 18\, Valencia\, Valencia\, 46002\, España
CATEGORIES:Ciclo Otras Tertulias
ATTACH;FMTTYPE=image/jpeg:https://historico.ateneovalencia.es/wp-content/uploads/2019/05/20190523-Otras-Tertulias-Mercados-Financieros.jpg
END:VEVENT
BEGIN:VEVENT
DTSTART;TZID=Europe/Madrid:20190522T193000
DTEND;TZID=Europe/Madrid:20190522T210000
DTSTAMP:20260422T162116
CREATED:20190516T102821Z
LAST-MODIFIED:20190516T102821Z
UID:48006-1558553400-1558558800@historico.ateneovalencia.es
SUMMARY:Sensus Communis: "¿Qué es el Estado de Derecho? Poder y Libertad en los inicios del s. XXI"
DESCRIPTION:Nueva reunión del Foro Sensus Communis este próximo jueves 22 de mayo\, en la que se vuelve a celebrar un debate abierto en la Sala de Ocio y que llega bajo el título: "¿Qué es el Estado de Derecho? Poder y Libertad en los inicios del s. XXI"; un debate que contará con un invitado especial como es el profesor titular de Derecho Administrativo de la Universidad de Granada y presidente del Foro para la Concordia Civil\, D. José Torné-Dombidau. \nLa auténtica democracia es aquella relacionada con el Estado de Derecho como principio de gobierno\, según el cual\, todas las personas\, instituciones y entidades\, públicas y privadas\, incluido el propio Estado\, están sometidas a las leyes\, se hacen cumplir por igual y se aplican con independencia\, además de ser compatibles con las normas y los principios internacionales de Derechos Humanos.  \nEspaña es un Estado de Derecho que ofrece las vías constitucionales para que cualquier persona pueda defender sus ideas\, dentro del respeto a la ley. Pero cuando se intenta desbordar nuestro modelo constitucional fuera de los cauces legales establecidos\, la Constitución no puede renunciar a defenderse\, porque ello supondría renunciar al Estado de Derecho.
URL:https://historico.ateneovalencia.es/evento/sensus-communis-que-es-el-estado-de-derecho-poder-y-libertad-en-los-inicios-del-s-xxi/
LOCATION:Sala de Ocio - Ateneo Mercantil de Valencia\, Plaza del Ayuntamiento\, 18\, Valencia\, España\, Valencia\, Valencia\, 46002\, España
CATEGORIES:Sensus Communis
ATTACH;FMTTYPE=image/jpeg:https://historico.ateneovalencia.es/wp-content/uploads/2019/05/20190522-Sensus-Communis-Estado-Derecho.jpg
END:VEVENT
END:VCALENDAR