BEGIN:VCALENDAR
VERSION:2.0
PRODID:-//Ateneo Mercantil de Valencia - ECPv6.0.4//NONSGML v1.0//EN
CALSCALE:GREGORIAN
METHOD:PUBLISH
X-ORIGINAL-URL:https://historico.ateneovalencia.es
X-WR-CALDESC:Eventos para Ateneo Mercantil de Valencia
REFRESH-INTERVAL;VALUE=DURATION:PT1H
X-Robots-Tag:noindex
X-PUBLISHED-TTL:PT1H
BEGIN:VTIMEZONE
TZID:Europe/Madrid
BEGIN:DAYLIGHT
TZOFFSETFROM:+0100
TZOFFSETTO:+0200
TZNAME:CEST
DTSTART:20190331T010000
END:DAYLIGHT
BEGIN:STANDARD
TZOFFSETFROM:+0200
TZOFFSETTO:+0100
TZNAME:CET
DTSTART:20191027T010000
END:STANDARD
END:VTIMEZONE
BEGIN:VEVENT
DTSTART;TZID=Europe/Madrid:20190518T070000
DTEND;TZID=Europe/Madrid:20190518T200000
DTSTAMP:20260423T035940
CREATED:20190416T111902Z
LAST-MODIFIED:20190509T115658Z
UID:46905-1558162800-1558209600@historico.ateneovalencia.es
SUMMARY:Tertulia Taurina: Pasa un gran día en la Ganadería Los Chospes de Albacete
DESCRIPTION:La Tertulia Taurina del Ateneo Mercantil ha vuelto a organizar un nuevo viaje a la Ganadería Los Chospes\, ya que en el primer viaje se suspendió ésta por la intensa lluvia que cayó en el último día de la visita de este mes de abril y por eso la tertulia ha organizado este viaje de un día para que la gente pueda ver la ganadería por dentro. Una visita a estas magníficas instalaciones que hay en Albacete\, habrá una tienta de vaquillas y luego se comerá en un restaurante próximo a la ganadería. Hay dos precios para el viaje: 25 euros para los que ya fueron al primer viaje del pasado abril y que no pudieron visitar Los Chospes y 75 euros para los que no estuvieron y tienen que pagar el autobús y la Ganadería. Hay seguro de viaje. Recordar que el viaje es el próximo 18 de mayo\, la salida es a las 7 de la mañana desde la puerta del Ateneo Mercantil y la llegada a Valencia a las 20 horas. \nCartel:
URL:https://historico.ateneovalencia.es/evento/tertulia-taurina-pasa-un-gran-dia-en-la-ganaderia-los-chospes-de-albacete/
LOCATION:Externo\, Valencia
CATEGORIES:Tertulia Taurina,Viajes
ATTACH;FMTTYPE=image/jpeg:https://historico.ateneovalencia.es/wp-content/uploads/2019/04/20190407-Viaje-a-Ganaderia-Chospes.jpg
END:VEVENT
END:VCALENDAR