BEGIN:VCALENDAR
VERSION:2.0
PRODID:-//Ateneo Mercantil de Valencia - ECPv6.0.4//NONSGML v1.0//EN
CALSCALE:GREGORIAN
METHOD:PUBLISH
X-ORIGINAL-URL:https://historico.ateneovalencia.es
X-WR-CALDESC:Eventos para Ateneo Mercantil de Valencia
REFRESH-INTERVAL;VALUE=DURATION:PT1H
X-Robots-Tag:noindex
X-PUBLISHED-TTL:PT1H
BEGIN:VTIMEZONE
TZID:Europe/Madrid
BEGIN:DAYLIGHT
TZOFFSETFROM:+0100
TZOFFSETTO:+0200
TZNAME:CEST
DTSTART:20190331T010000
END:DAYLIGHT
BEGIN:STANDARD
TZOFFSETFROM:+0200
TZOFFSETTO:+0100
TZNAME:CET
DTSTART:20191027T010000
END:STANDARD
END:VTIMEZONE
BEGIN:VEVENT
DTSTART;TZID=Europe/Madrid:20190307T190000
DTEND;TZID=Europe/Madrid:20190307T210000
DTSTAMP:20260421T223908
CREATED:20190305T104246Z
LAST-MODIFIED:20190305T104246Z
UID:43906-1551985200-1551992400@historico.ateneovalencia.es
SUMMARY:La mujer en la Tauromaquia: mesa redonda en honor a la mujer
DESCRIPTION:La Tertulia Taurina del Ateneo Mercantil de Valencia ha organizado para celebrar el Día de la Mujer una mesa redonda en torno a la presencia de la misma en la fiesta nacional. El próximo jueves\, 7 de marzo\, a las 19 horas en el Salón Sorolla se celebrará una mesa redonda en que se abordará la participación en la fiesta y el papel que realiza en la actualidad la mujer en los toros. La mesa redonda será moderada por la periodista Mª José López Monzó y contará con la presencia de la recortadora Andrea Suárez\, la novillera Maite Alcalá y la ganadera y veterinaria Macarena Gallego. \nCartel:
URL:https://historico.ateneovalencia.es/evento/la-mujer-en-la-tauromaquia-mesa-redonda-en-honor-a-la-mujer/
LOCATION:Salón Sorolla - Ateneo Mercantil de Valencia\, Plaza del Ayuntamiento 18\, Valencia\, Valencia\, 46002\, España
CATEGORIES:Tertulia Taurina
ATTACH;FMTTYPE=image/jpeg:https://historico.ateneovalencia.es/wp-content/uploads/2019/03/20190307-Mujer-en-la-Tauromaquia.jpg
END:VEVENT
END:VCALENDAR