BEGIN:VCALENDAR
VERSION:2.0
PRODID:-//Ateneo Mercantil de Valencia - ECPv6.0.4//NONSGML v1.0//EN
CALSCALE:GREGORIAN
METHOD:PUBLISH
X-ORIGINAL-URL:https://historico.ateneovalencia.es
X-WR-CALDESC:Eventos para Ateneo Mercantil de Valencia
REFRESH-INTERVAL;VALUE=DURATION:PT1H
X-Robots-Tag:noindex
X-PUBLISHED-TTL:PT1H
BEGIN:VTIMEZONE
TZID:Europe/Madrid
BEGIN:DAYLIGHT
TZOFFSETFROM:+0100
TZOFFSETTO:+0200
TZNAME:CEST
DTSTART:20190331T010000
END:DAYLIGHT
BEGIN:STANDARD
TZOFFSETFROM:+0200
TZOFFSETTO:+0100
TZNAME:CET
DTSTART:20191027T010000
END:STANDARD
END:VTIMEZONE
BEGIN:VEVENT
DTSTART;TZID=Europe/Madrid:20190228T190000
DTEND;TZID=Europe/Madrid:20190228T190000
DTSTAMP:20260421T233241
CREATED:20190130T133634Z
LAST-MODIFIED:20190227T124950Z
UID:42249-1551380400-1551380400@historico.ateneovalencia.es
SUMMARY:Santiago López Márquez. 50 años de alternativa (1969-2019)
DESCRIPTION:El Ateneo Mercantil de Valencia\, a través de su Tertulia Taurina\, tiene el placer de invitarles al acto de homenaje al torero Santiago López Márquez para celebrar sus 50 años de alternativa (1969-2019). Moderarán y presentará el acto D. José Luís Benlloch y D. Ángel Berlanga. Os esperamos en el Salón Stolz a las 19 horas. \nConocido por Santiago López matador de toros\, nació en Alhama de Granada\, el 5 de febrero de 1946. Tomo la Alternativa en Granada\, el 8 de junio de 1969\, por Diego Puerta y El Viti con el Toro “Pesetero”\, de Antonio Méndez. La Confirmación En Las Ventas\, el 16 de mayo de 1971\, por Curro Girón y Manolo Cortés.
URL:https://historico.ateneovalencia.es/evento/santiago-lopez-marquez-50-anos-de-alternativa-1969-2019/
LOCATION:Salón Stolz - Ateneo Mercantil de Valencia\, Plaza del Ayuntamiento\, 18\, Valencia\, España\, Valencia\, Valencia\, 46002\, España
CATEGORIES:Tertulia Taurina
ATTACH;FMTTYPE=image/jpeg:https://historico.ateneovalencia.es/wp-content/uploads/2019/01/20190228-Tertulia-Taurina-Homenaje-Santiago-Lopez.jpg
END:VEVENT
END:VCALENDAR