BEGIN:VCALENDAR
VERSION:2.0
PRODID:-//Ateneo Mercantil de Valencia - ECPv6.0.4//NONSGML v1.0//EN
CALSCALE:GREGORIAN
METHOD:PUBLISH
X-ORIGINAL-URL:https://historico.ateneovalencia.es
X-WR-CALDESC:Eventos para Ateneo Mercantil de Valencia
REFRESH-INTERVAL;VALUE=DURATION:PT1H
X-Robots-Tag:noindex
X-PUBLISHED-TTL:PT1H
BEGIN:VTIMEZONE
TZID:Europe/Madrid
BEGIN:DAYLIGHT
TZOFFSETFROM:+0100
TZOFFSETTO:+0200
TZNAME:CEST
DTSTART:20190331T010000
END:DAYLIGHT
BEGIN:STANDARD
TZOFFSETFROM:+0200
TZOFFSETTO:+0100
TZNAME:CET
DTSTART:20191027T010000
END:STANDARD
END:VTIMEZONE
BEGIN:VEVENT
DTSTART;TZID=Europe/Madrid:20190211T190000
DTEND;TZID=Europe/Madrid:20190211T210000
DTSTAMP:20260421T223048
CREATED:20190114T115735Z
LAST-MODIFIED:20190114T115735Z
UID:41755-1549911600-1549918800@historico.ateneovalencia.es
SUMMARY:Tertulia Histórica: "Los Tribunales de Derechos Humanos"
DESCRIPTION:La segunda Tertulia Histórica de febrero hablará sobre los Tribunales de Derechos Humanos. Una conferencia que impartirá el Doctor en Derecho\, licenciado en Criminología y Presidente de la Sección 3ª de la Audiencia Provincial de Valencia desde diciembre de 2004\, D. Carlos Climent Durán\, y la ponencia llega bajo el título: "Los Tribunales de Derechos Humanos". \nSin ir más lejos en Europa tenemos el Tribunal Europeo de Derechos Humanos (también denominado Tribunal de Estrasburgo y Corte Europea de Derechos Humanos) que es la máxima autoridad judicial para la garantía de los derechos humanos y libertades fundamentales en toda Europa\, excepto Bielorrusia\, Kazajistán y la Ciudad del Vaticano. \nUn tribunal internacional ante el que cualquier persona que considere haber sido víctima de una violación de sus derechos reconocidos por el Convenio para la Protección de los Derechos Humanos y de las Libertades Fundamentales o cualquiera de sus Protocolos adicionales\, mientras se encontraba legalmente bajo la jurisdicción de un Estado miembro del Consejo de Europa\, y que haya agotado sin éxito los recursos judiciales disponibles en ese Estado\, puede presentar una denuncia contra dicho Estado por violación del Convenio. \nCartel:
URL:https://historico.ateneovalencia.es/evento/tertulia-historica-los-tribunales-de-derechos-humanos/
LOCATION:Salón Sorolla - Ateneo Mercantil de Valencia\, Plaza del Ayuntamiento 18\, Valencia\, Valencia\, 46002\, España
CATEGORIES:Tertulia Histórica
ATTACH;FMTTYPE=image/jpeg:https://historico.ateneovalencia.es/wp-content/uploads/2019/01/20190211-Tertulia-Historica-Tribunal-Derechos-Humanos.jpg
END:VEVENT
END:VCALENDAR