BEGIN:VCALENDAR
VERSION:2.0
PRODID:-//Ateneo Mercantil de Valencia - ECPv6.0.4//NONSGML v1.0//EN
CALSCALE:GREGORIAN
METHOD:PUBLISH
X-ORIGINAL-URL:https://historico.ateneovalencia.es
X-WR-CALDESC:Eventos para Ateneo Mercantil de Valencia
REFRESH-INTERVAL;VALUE=DURATION:PT1H
X-Robots-Tag:noindex
X-PUBLISHED-TTL:PT1H
BEGIN:VTIMEZONE
TZID:Europe/Madrid
BEGIN:DAYLIGHT
TZOFFSETFROM:+0100
TZOFFSETTO:+0200
TZNAME:CEST
DTSTART:20190331T010000
END:DAYLIGHT
BEGIN:STANDARD
TZOFFSETFROM:+0200
TZOFFSETTO:+0100
TZNAME:CET
DTSTART:20191027T010000
END:STANDARD
END:VTIMEZONE
BEGIN:VEVENT
DTSTART;TZID=Europe/Madrid:20190116T193000
DTEND;TZID=Europe/Madrid:20190116T210000
DTSTAMP:20260421T233234
CREATED:20190107T101249Z
LAST-MODIFIED:20190107T101249Z
UID:41227-1547667000-1547672400@historico.ateneovalencia.es
SUMMARY:Sensus Communis: La Revolución de las canas: ¿Qué significa ser mayor?
DESCRIPTION:El próximo miércoles 16 de enero regresa el Foro Sensus Communis con un nuevo debate abierto sobre un interesante tema como es el del envejecimiento de la población mundial y en concreto de España\, que será el país más anciano en el año 2050. El debate será a las 19.30 horas en la Sala de Ocio. Las previsiones de la ONU dibujan un 2050 con 420 millones de octogenarios habitando el planeta Tierra y\, según la OCDE\, España será el territorio más envejecido del mundo también para ese año. No hay quien pare a la esperanza de vida. ¿Qué supondrá este escenario? \nLos efectos positivos de la longevidad compensan los negativos. Estamos acostumbrados a oír lo contrario\, pero más gente mayor puede significar\, siempre y cuando ellos lo deseen\, más recursos para la economía. Hay que aprovechar las oportunidades que ofrece el envejecimiento. Los efectos producidos por el incremento de la longevidad propician un estímulo al crecimiento económico\, y se analiza con minuciosos datos cómo ha aparecido una nueva etapa vital entre los 50 y los 70 años\, la bautizada como la Generación Silver\, que permitirá que millones de personas de esa edad sigan trabajando. A partir de los 65 años uno será mayor\, pero no anciano. \nEnlace orientativo de Lectura: https://ethic.es/2018/12/revolucion-de-las-canas/ \nCartel:
URL:https://historico.ateneovalencia.es/evento/sensus-communis-la-revolucion-de-las-canas-que-significa-ser-mayor/
LOCATION:Sala de Ocio - Ateneo Mercantil de Valencia\, Plaza del Ayuntamiento\, 18\, Valencia\, España\, Valencia\, Valencia\, 46002\, España
CATEGORIES:Sensus Communis
ATTACH;FMTTYPE=image/jpeg:https://historico.ateneovalencia.es/wp-content/uploads/2019/01/20190116-Sensus-Communis-La-Revolucion-Canas.jpg
END:VEVENT
END:VCALENDAR