BEGIN:VCALENDAR
VERSION:2.0
PRODID:-//Ateneo Mercantil de Valencia - ECPv6.0.4//NONSGML v1.0//EN
CALSCALE:GREGORIAN
METHOD:PUBLISH
X-ORIGINAL-URL:https://historico.ateneovalencia.es
X-WR-CALDESC:Eventos para Ateneo Mercantil de Valencia
REFRESH-INTERVAL;VALUE=DURATION:PT1H
X-Robots-Tag:noindex
X-PUBLISHED-TTL:PT1H
BEGIN:VTIMEZONE
TZID:Europe/Madrid
BEGIN:DAYLIGHT
TZOFFSETFROM:+0100
TZOFFSETTO:+0200
TZNAME:CEST
DTSTART:20190331T010000
END:DAYLIGHT
BEGIN:STANDARD
TZOFFSETFROM:+0200
TZOFFSETTO:+0100
TZNAME:CET
DTSTART:20191027T010000
END:STANDARD
END:VTIMEZONE
BEGIN:VEVENT
DTSTART;TZID=Europe/Madrid:20190110T190000
DTEND;TZID=Europe/Madrid:20190110T210000
DTSTAMP:20260421T220248
CREATED:20190107T125623Z
LAST-MODIFIED:20190111T141245Z
UID:41237-1547146800-1547154000@historico.ateneovalencia.es
SUMMARY:Tertulia Taurina dedicada a D. Salvador Boix
DESCRIPTION:El próximo jueves 10 de enero a las 19.00 horas en la séptima planta\, se le rendirá un pequeño homenaje a un distinguido seguidor y el que fuera primer moderador de la Terulia Taurina del Ateneo\, D. Salvador Boix. La Tertulia Taurina de ese jueves será dedicada al distinguido miembro de la tertulia taurina ateneísta\, moderador y alma máter de la misma\, ya que desde sus inicios estuvo presente. \nD. Salvador Boix recibió ya un homaneje de la Tertulia Taurina hace unos años en el Restaurante del Ateneo Mercantil\, pero en esta ocasión se hablará durante toda la reunión de su figura y de todo lo que representó para este grupo de socios que se reúnen todos los jueves del año. En el Ateneo Mercantil\, D. Salvador dejó una huella imborrable por su calidad humana y por la pasión que sentía hacia la tauromaquia. En la tarde del 24 de diciembre falleció a los 90 años. Se marchó un gran aficionado de los toros. \nCartel:
URL:https://historico.ateneovalencia.es/evento/tertulia-taurina-tertulia-dedicada-a-d-salvador-boix/
LOCATION:Sala Multiusos - Tertulia Taurina
CATEGORIES:Tertulia Taurina
ATTACH;FMTTYPE=image/jpeg:https://historico.ateneovalencia.es/wp-content/uploads/2019/01/20190110-Tertulia-Taurina-Salvador-Boix.jpg
END:VEVENT
END:VCALENDAR