BEGIN:VCALENDAR
VERSION:2.0
PRODID:-//Ateneo Mercantil de Valencia - ECPv6.0.4//NONSGML v1.0//EN
CALSCALE:GREGORIAN
METHOD:PUBLISH
X-ORIGINAL-URL:https://historico.ateneovalencia.es
X-WR-CALDESC:Eventos para Ateneo Mercantil de Valencia
REFRESH-INTERVAL;VALUE=DURATION:PT1H
X-Robots-Tag:noindex
X-PUBLISHED-TTL:PT1H
BEGIN:VTIMEZONE
TZID:Europe/Madrid
BEGIN:DAYLIGHT
TZOFFSETFROM:+0100
TZOFFSETTO:+0200
TZNAME:CEST
DTSTART:20180325T010000
END:DAYLIGHT
BEGIN:STANDARD
TZOFFSETFROM:+0200
TZOFFSETTO:+0100
TZNAME:CET
DTSTART:20181028T010000
END:STANDARD
END:VTIMEZONE
BEGIN:VEVENT
DTSTART;TZID=Europe/Madrid:20181220T190000
DTEND;TZID=Europe/Madrid:20181220T210000
DTSTAMP:20260423T035935
CREATED:20181220T122509Z
LAST-MODIFIED:20181220T122509Z
UID:41017-1545332400-1545339600@historico.ateneovalencia.es
SUMMARY:"La Feria de Julio 1918: Los Toros de Pablo Romero" y ‘Alternativa: Éxito o Fracaso’
DESCRIPTION:La Tertulia Taurina del Ateneo Mercantil se reúne por última vez este 2018 con la tertulia en la que contarán con la cuarta entrega de la feria de Julio de 2018 que el socio y bibliógrafo\, D. Salvador Chapa\, está haciendo en un serial y esta vez llega con los Toros de Pablo Romero de aquella Feria de hace un siglo. Además\, el tema del día llega bajo el título: 'La Alternativa: Éxito o Fracaso' que expondrá Paco Ferri. \nLa alternativa en la Tauromaquia es la ceremonia mediante la cual el novillero o el torero primerizo adquiere la categoría de matador de toros. La expresión proviene de que el principiante es autorizado a alternar por primera vez en un festejo con otros matadores de toros. Se trata de un rito de paso que tiene lugar durante el primer toro de la corrida: cuando toca matar al toro\, el espada más antiguo\, el padrino\, cede los trastos de matar: la muleta y la espada al ahijado\, quien por su parte entrega su capote al veterano. El padrino suele dedicarle unas breves palabras y un abrazo\, todo ello en presencia de otro matador\, que ejerce de testigo de la ceremonia. \nCartel:
URL:https://historico.ateneovalencia.es/evento/la-feria-de-julio-1918-los-toros-de-pablo-romero-y-alternativa-exito-o-fracaso/
LOCATION:Sala Multiusos - Tertulia Taurina
CATEGORIES:Tertulia Taurina
ATTACH;FMTTYPE=image/jpeg:https://historico.ateneovalencia.es/wp-content/uploads/2018/12/20181220-Tertulia-Taurina-Alternativa.jpg
END:VEVENT
END:VCALENDAR