BEGIN:VCALENDAR
VERSION:2.0
PRODID:-//Ateneo Mercantil de Valencia - ECPv6.0.4//NONSGML v1.0//EN
CALSCALE:GREGORIAN
METHOD:PUBLISH
X-WR-CALNAME:Ateneo Mercantil de Valencia
X-ORIGINAL-URL:https://historico.ateneovalencia.es
X-WR-CALDESC:Eventos para Ateneo Mercantil de Valencia
REFRESH-INTERVAL;VALUE=DURATION:PT1H
X-Robots-Tag:noindex
X-PUBLISHED-TTL:PT1H
BEGIN:VTIMEZONE
TZID:Europe/Madrid
BEGIN:DAYLIGHT
TZOFFSETFROM:+0100
TZOFFSETTO:+0200
TZNAME:CEST
DTSTART:20180325T010000
END:DAYLIGHT
BEGIN:STANDARD
TZOFFSETFROM:+0200
TZOFFSETTO:+0100
TZNAME:CET
DTSTART:20181028T010000
END:STANDARD
END:VTIMEZONE
BEGIN:VEVENT
DTSTART;TZID=Europe/Madrid:20181122T190000
DTEND;TZID=Europe/Madrid:20181122T203000
DTSTAMP:20260423T111406
CREATED:20181121T151207Z
LAST-MODIFIED:20181121T151207Z
UID:40247-1542913200-1542918600@historico.ateneovalencia.es
SUMMARY:Segunda cita con la Feria de Julio de 1918 y descubriendo la figura de Paco Camino
DESCRIPTION:Este próximo jueves 22 de noviembre se celebra un nuevo encuentro de la Tertulia Taurina a la hora habitual\, las 19.00 horas\, en el séptimo piso del Ateneo Mercantil. De nuevo la tertulia contará con el socio D. Salvador Chapa que seguirá narrando fielmente la Historia del Toreo y prosigue con la Feria de Julio de 1918 y llega con el título: "Un chulo aburrido\, el de los vidrios rotos y la mano negra". Asimismo\, el socio D. Francisco Ferri\, será el encargado de introducir el tema de las Figuras del Toreo\, que está vez hablará de Paco Camino "El niño Sabio de Camas". Tras estas dos citas comenzará la habitual tertulia entre los compañeros taurinos. \nCartel:
URL:https://historico.ateneovalencia.es/evento/segunda-cita-con-la-feria-de-julio-de-1918-y-descubriendo-la-figura-de-paco-camino/
LOCATION:Sala Multiusos - Tertulia Taurina
CATEGORIES:Tertulia Taurina
ATTACH;FMTTYPE=image/jpeg:https://historico.ateneovalencia.es/wp-content/uploads/2018/11/20181122-Tertulia-Taurina-Paco-Camino.jpg
END:VEVENT
END:VCALENDAR