BEGIN:VCALENDAR
VERSION:2.0
PRODID:-//Ateneo Mercantil de Valencia - ECPv6.0.4//NONSGML v1.0//EN
CALSCALE:GREGORIAN
METHOD:PUBLISH
X-ORIGINAL-URL:https://historico.ateneovalencia.es
X-WR-CALDESC:Eventos para Ateneo Mercantil de Valencia
REFRESH-INTERVAL;VALUE=DURATION:PT1H
X-Robots-Tag:noindex
X-PUBLISHED-TTL:PT1H
BEGIN:VTIMEZONE
TZID:Europe/Madrid
BEGIN:DAYLIGHT
TZOFFSETFROM:+0100
TZOFFSETTO:+0200
TZNAME:CEST
DTSTART:20180325T010000
END:DAYLIGHT
BEGIN:STANDARD
TZOFFSETFROM:+0200
TZOFFSETTO:+0100
TZNAME:CET
DTSTART:20181028T010000
END:STANDARD
END:VTIMEZONE
BEGIN:VEVENT
DTSTART;TZID=Europe/Madrid:20181107T193000
DTEND;TZID=Europe/Madrid:20181107T210000
DTSTAMP:20260423T003426
CREATED:20181030T115305Z
LAST-MODIFIED:20181030T115316Z
UID:39606-1541619000-1541624400@historico.ateneovalencia.es
SUMMARY:Foro Sensus Communis: "La legalización de la Eutanasia"
DESCRIPTION:Nueva reunión del Foro Sensus Communis para debatir de manera abierta y razonada sobre los asuntos de actualidad que generan polémica o que tienen opiniones enfrentadas en la sociedad cilvil española. Tras la anterior cita con la maternidad subrogada\, ahora llega el momento de hablar de la legalización de la eutanasia. El debate será el miércoles 7 de noviembre\, de nuevo en la Sala de Ocio\, a las 19.30 horas. \nEl Congreso español votó el pasado mes de mayo a favor de examinar una ley para legalizar la eutanasia\, el primer paso en esta dirección en el país si bien se augura una fuerte oposición en la cámara durante su tramitación. La votación se saldó con 173 diputados a favor y 135 en contra\, además de 32 abstenciones\, de examinar la ley\, redactada originalmente en el Parlamento regional de Cataluña. \nEs la primera vez que una ley encaminada a legalizar la eutanasia consigue ser tramitada en el Congreso después de varios intentos previos fallidos. El texto buscó modificar el artículo 143 del código penal español que actualmente castiga causar o cooperar a la muerte de una persona que sufra "una enfermedad grave que conduciría necesariamente a su muerte\, o que produjera graves padecimientos permanentes y difíciles de soportar". La ley legalizaría que una persona provoque o ayude a provocar "la muerte segura\, pacífica y sin dolor" de la persona enferma siempre que sea "por petición expresa\, libre e inequívoca" de esta. \nCartel:
URL:https://historico.ateneovalencia.es/evento/foro-sensus-communis-la-legalizacion-de-la-eutanasia/
LOCATION:Sala de Ocio - Ateneo Mercantil de Valencia\, Plaza del Ayuntamiento\, 18\, Valencia\, España\, Valencia\, Valencia\, 46002\, España
CATEGORIES:Sensus Communis
ATTACH;FMTTYPE=image/jpeg:https://historico.ateneovalencia.es/wp-content/uploads/2018/10/20181107-Sensus-Communis-Eutanasia.jpg
END:VEVENT
END:VCALENDAR