BEGIN:VCALENDAR
VERSION:2.0
PRODID:-//Ateneo Mercantil de Valencia - ECPv6.0.4//NONSGML v1.0//EN
CALSCALE:GREGORIAN
METHOD:PUBLISH
X-WR-CALNAME:Ateneo Mercantil de Valencia
X-ORIGINAL-URL:https://historico.ateneovalencia.es
X-WR-CALDESC:Eventos para Ateneo Mercantil de Valencia
REFRESH-INTERVAL;VALUE=DURATION:PT1H
X-Robots-Tag:noindex
X-PUBLISHED-TTL:PT1H
BEGIN:VTIMEZONE
TZID:Europe/Madrid
BEGIN:DAYLIGHT
TZOFFSETFROM:+0100
TZOFFSETTO:+0200
TZNAME:CEST
DTSTART:20180325T010000
END:DAYLIGHT
BEGIN:STANDARD
TZOFFSETFROM:+0200
TZOFFSETTO:+0100
TZNAME:CET
DTSTART:20181028T010000
END:STANDARD
END:VTIMEZONE
BEGIN:VEVENT
DTSTART;TZID=Europe/Madrid:20180531T190000
DTEND;TZID=Europe/Madrid:20180531T203000
DTSTAMP:20260421T234132
CREATED:20180502T100338Z
LAST-MODIFIED:20180529T080906Z
UID:35591-1527793200-1527798600@historico.ateneovalencia.es
SUMMARY:Aplazada la Gala del Premio Distinción 'Enrique Mora Guillén' por una cogida de Paco Ureña
DESCRIPTION:Una cogida del matador Paco Ureña cuando entrenaba en el campo preparando San Isidro no le permitirá estar en Valencia este jueves 31 de mayo para recoger el Premio Distinción que entrega la Tertulia Taurina del Ateneo Mercantil de Valencia como triunfador en Valencia en 2017. El Ateneo Mercantil celebraba la 14 edición del Premio Distinción Enrique Mora Guillén y había galardonado al matador de toros de Lorca\, D. Paco Ureña\, como triunfador en el coso valenciano en las Ferias de Fallas y Julio de 2017. \nLa gala se iba a celebrar el próximo jueves 31 de mayo en el Salón Stolz de nuestra entidad. Tras varias reuiniones\, los miembros de la Tertulia decidieron conceder el galardón al torero murciano por “las buenas faenas realizadas por el murciano en las ferias valencianas”. El acto queda aplazado sin fecha cerrada\, pero se informará en las próximas semanas para indicar cuando se realizará definitivamente una gala que está limitada a 150 personas. \n\nAsí próximamente\, el galardón será entregado en un acto que contará con la presencia del torero y en el que se servirá un vino español en su honor. El Trofeo Distinción fue creado en 2001 para premiar la labor más sobresaliente en la plaza de toros de Valencia de cada temporada. Hasta el momento lo han recibido los toreros\, José Miguel Arroyo “Joselito”\, César Jiménez\, Juan Ávila\, César Rincón\, Vicente Barrera\, Jose María Manzanares\, Cayetano\, Enrique Ponce\, El Juli\, Román\, Juan José Padilla\, Sebastián Castella y Andrés Roca Rey. El Premio Distinción recibe el nombre Enrique Mora Guillén en homenaje al impulsor de la Tertulia del Ateneo y una de las figuras más representativas de la institución valenciana.
URL:https://historico.ateneovalencia.es/evento/gala-del-premio-distincion-enrique-mora-guillen-entrega-del-galardon-a-paco-urena-en-el-ateneo-mercantil/
LOCATION:Salón Stolz - Ateneo Mercantil de Valencia\, Plaza del Ayuntamiento\, 18\, Valencia\, España\, Valencia\, Valencia\, 46002\, España
CATEGORIES:Tertulia Taurina
ATTACH;FMTTYPE=image/jpeg:https://historico.ateneovalencia.es/wp-content/uploads/2018/05/20180322-Premio-Distincion-Paco-Ureña.jpg
END:VEVENT
END:VCALENDAR