BEGIN:VCALENDAR
VERSION:2.0
PRODID:-//Ateneo Mercantil de Valencia - ECPv6.0.4//NONSGML v1.0//EN
CALSCALE:GREGORIAN
METHOD:PUBLISH
X-WR-CALNAME:Ateneo Mercantil de Valencia
X-ORIGINAL-URL:https://historico.ateneovalencia.es
X-WR-CALDESC:Eventos para Ateneo Mercantil de Valencia
REFRESH-INTERVAL;VALUE=DURATION:PT1H
X-Robots-Tag:noindex
X-PUBLISHED-TTL:PT1H
BEGIN:VTIMEZONE
TZID:Europe/Madrid
BEGIN:DAYLIGHT
TZOFFSETFROM:+0100
TZOFFSETTO:+0200
TZNAME:CEST
DTSTART:20180325T010000
END:DAYLIGHT
BEGIN:STANDARD
TZOFFSETFROM:+0200
TZOFFSETTO:+0100
TZNAME:CET
DTSTART:20181028T010000
END:STANDARD
END:VTIMEZONE
BEGIN:VEVENT
DTSTART;TZID=Europe/Madrid:20180514T190000
DTEND;TZID=Europe/Madrid:20180514T203000
DTSTAMP:20260421T185805
CREATED:20180410T092317Z
LAST-MODIFIED:20180410T092317Z
UID:34910-1526324400-1526329800@historico.ateneovalencia.es
SUMMARY:Tertulia Histórica: La Antártida
DESCRIPTION:Llega una nueva conferencia dentro del Ciclo Tertulia Histórica bajo el título "La Antártida". Una ponencia que correrá a cargo del médico y socio del Ateneo Mercantil de Valencia\, D. Ramón Cuevas. Una conferencia que será el próximo 14 de mayo a las 19.00 horas en el Salón Sorolla. Son muchas las curiosidades existentes en este continente: En invierno\, cuando el mar se congela\, el continente antártico adquiere un tamaño equivalente a la extensión de EE.UU. y México juntos; Los primeros turistas en llegar a la Antártida lo hicieron en 1957; Se estima que hay 300.000 icebergs navegando en el océano antártico. \nTambién se han encontrado meteoritos hallados en la Antártida\, cerca de 20.000 ejemplares; Según el Tratado Antártico\, la Antártida no le pertenece a ningún país. Es un continente destinado a la ciencia; Existe una "moneda antártica". Se llama dólar antártico y aunque no tiene valor legal. Además\, la literatura de ficción Antártica comenzó hace cinco siglos con la publicación en 1605 de Mundes Alter et Idem (Otro mundo y a la vez el mismo) y en 1999 una pareja se casó en la estación Amundsen-Scott del Polo Sur geográfico. \n 
URL:https://historico.ateneovalencia.es/evento/tertulia-historica-la-antartida/
LOCATION:Salón Sorolla - Ateneo Mercantil de Valencia\, Plaza del Ayuntamiento 18\, Valencia\, Valencia\, 46002\, España
CATEGORIES:Tertulia Histórica
ATTACH;FMTTYPE=image/jpeg:https://historico.ateneovalencia.es/wp-content/uploads/2018/04/20180514-Tertulia-Historica-La-Antartida.jpg
END:VEVENT
END:VCALENDAR