BEGIN:VCALENDAR
VERSION:2.0
PRODID:-//Ateneo Mercantil de Valencia - ECPv6.0.4//NONSGML v1.0//EN
CALSCALE:GREGORIAN
METHOD:PUBLISH
X-WR-CALNAME:Ateneo Mercantil de Valencia
X-ORIGINAL-URL:https://historico.ateneovalencia.es
X-WR-CALDESC:Eventos para Ateneo Mercantil de Valencia
REFRESH-INTERVAL;VALUE=DURATION:PT1H
X-Robots-Tag:noindex
X-PUBLISHED-TTL:PT1H
BEGIN:VTIMEZONE
TZID:Europe/Madrid
BEGIN:DAYLIGHT
TZOFFSETFROM:+0100
TZOFFSETTO:+0200
TZNAME:CEST
DTSTART:20180325T010000
END:DAYLIGHT
BEGIN:STANDARD
TZOFFSETFROM:+0200
TZOFFSETTO:+0100
TZNAME:CET
DTSTART:20181028T010000
END:STANDARD
END:VTIMEZONE
BEGIN:VEVENT
DTSTART;TZID=Europe/Madrid:20180507T190000
DTEND;TZID=Europe/Madrid:20180507T210000
DTSTAMP:20260421T194900
CREATED:20180411T111541Z
LAST-MODIFIED:20180411T111541Z
UID:35149-1525719600-1525726800@historico.ateneovalencia.es
SUMMARY:Tertulia Histórica: "1976: el año clave de la Transición"
DESCRIPTION:La Tertulia Histórica regresa al Ateneo Mercantil el próximo 7 de mayo a las 19.00 horas en el Salón Sorolla bajo el título "1976: el año clave de la Transición". El ponente será el historiador\, jurista y decano de la RACV\, D. Federico Martínez Roda y la presentación correrá a cargo de D. José Luis Climent y D. Vicente Boch. Aquel mes de noviembre de 1976 se firmó la reforma política de Adolfo Suárez. \nUn proceso que se desarrolló en España entre 1976 y 1977 por el que el presidente Suárez\, nombrado por el rey Juan Carlos transformó la dictadura establecida por el general Francisco Franco\, basada en las Leyes Fundamentales del Reino\, en una monarquía parlamentaria. El principal instrumento legal para llevar a cabo el cambio fue la Ley para la Reforma Política\, que permitió transformar el régimen desde dentro y llegar a la celebración de elecciones pluripartidistas en junio de 1977. Forma parte del período conocido como Transición Española\, tras el último gobierno presidido por Carlos Arias Navarro y antes de que se desarrollara el período constituyente.
URL:https://historico.ateneovalencia.es/evento/tertulia-historica-1976-el-ano-clave-de-la-transicion/
LOCATION:Salón Sorolla - Ateneo Mercantil de Valencia\, Plaza del Ayuntamiento 18\, Valencia\, Valencia\, 46002\, España
CATEGORIES:Tertulia Histórica
ATTACH;FMTTYPE=image/jpeg:https://historico.ateneovalencia.es/wp-content/uploads/2018/04/20180507-Tertulia-Historica-1976-Año-Clave-Transicion.jpg
END:VEVENT
END:VCALENDAR