BEGIN:VCALENDAR
VERSION:2.0
PRODID:-//Ateneo Mercantil de Valencia - ECPv6.0.4//NONSGML v1.0//EN
CALSCALE:GREGORIAN
METHOD:PUBLISH
X-ORIGINAL-URL:https://historico.ateneovalencia.es
X-WR-CALDESC:Eventos para Ateneo Mercantil de Valencia
REFRESH-INTERVAL;VALUE=DURATION:PT1H
X-Robots-Tag:noindex
X-PUBLISHED-TTL:PT1H
BEGIN:VTIMEZONE
TZID:Europe/Madrid
BEGIN:DAYLIGHT
TZOFFSETFROM:+0100
TZOFFSETTO:+0200
TZNAME:CEST
DTSTART:20180325T010000
END:DAYLIGHT
BEGIN:STANDARD
TZOFFSETFROM:+0200
TZOFFSETTO:+0100
TZNAME:CET
DTSTART:20181028T010000
END:STANDARD
END:VTIMEZONE
BEGIN:VEVENT
DTSTART;TZID=Europe/Madrid:20180412T173000
DTEND;TZID=Europe/Madrid:20180412T190000
DTSTAMP:20260422T004148
CREATED:20180321T111202Z
LAST-MODIFIED:20180327T115636Z
UID:34317-1523554200-1523559600@historico.ateneovalencia.es
SUMMARY:Ciclo Otras Tertulias: "El caso del niño Gabriel en los medios de comunicación"
DESCRIPTION:Interesante conferencia que nos trae el Ciclo Otras Tertulias\, ya que desgraciadamente está de enorme actualidad debido a que tratará el asunto del asesinato del pequeño Gabriel Cruz. Una conferencia que tratará de explicar el comportamiento de los medios de comunicación en la investigación del caso del niño almeriense desaparecido y encontrado muerto en el maletero de la novia de su padre. La conferencia será el próximo 12 de abril a las 19 horas en la Sala Sorolla y la impartirá el Licenciado en Ciencias de la Información y Doctor en Periodismo por la Complutense de Madrid\, Dr. D. Carlos Pajuelo de Arcos. \nDesde muchos sectores de la sociedad española se ha criticado que algunos medios de comunicación\, a veces desde su labor de informar casi en directo de lo que está ocurriendo\, han llegado a entorpecer las investigaciones de las fuerzas y cuerpos de seguridad del estado; el caso del niño Gabriel Cruz se ha visto como los investigadores tuvieron problemas para culminar su labor debido a la gran cantidad de medios de comunicación que estaban cubriendo la noticia. De hecjo en el tramo final de la investigación hubo un acuerdo tácito entre la Guardia Civil y los medios de comunicación para que no hicieran ningun moviemiento en falso puesto que sabían desde hacía unos días que la principal sospechosa podía ser la autora material de los hechos\, como así ocurrió. \nDías antes de detener a la culpable del asesinato del pequeño\, los investigadores estaban a punto de dar con la persona responsable de la desaparición del niño y no podían culminar su acción porque había una barrera física de informadores. Ahí entra el eterno debate de que por encima del derecho a informar está el derecho a respetar la presunción de inocencia de la acusada en casos como el caso de Gabriel Cruz.
URL:https://historico.ateneovalencia.es/evento/ciclo-otras-tertulias-el-caso-del-nino-gabriel-en-los-medios-de-comunicacion/
LOCATION:Salón Sorolla - Ateneo Mercantil de Valencia\, Plaza del Ayuntamiento 18\, Valencia\, Valencia\, 46002\, España
CATEGORIES:Ciclo Otras Tertulias
ATTACH;FMTTYPE=image/jpeg:https://historico.ateneovalencia.es/wp-content/uploads/2018/03/20180412-Caso-Niño-Gabriel-en-los-Medios.jpg
END:VEVENT
BEGIN:VEVENT
DTSTART;TZID=Europe/Madrid:20180412T193000
DTEND;TZID=Europe/Madrid:20180412T210000
DTSTAMP:20260422T004148
CREATED:20180306T115533Z
LAST-MODIFIED:20180321T104452Z
UID:31793-1523561400-1523566800@historico.ateneovalencia.es
SUMMARY:Sensus Communis: "Los problemas psicológicos de un inmigrante”
DESCRIPTION:Llega una nueva sesión de Sensus Communis y se seguirá desgranando un tema de granb actualidad como es la inmigración. Si hace unas semanas se habló de la experiencia personal de un inmigrante desde su llegada al país receptor hasta que se habitua a vivir en esa sociedad nueva\, ahora se profundizará más en el tema migratorio y se hablará de los problemas piscológicos con los que tienen que vivir todas aquellas personas que están alejadas de su país\, de su familia y de su hogar natal. La conferencia será el próximo 22 de marzo\, a las 19.30 horas en la Sala de Junta del Ateneo Mercantil y la ponente será la psicóloga\, Dña. Carmen Isabel Sandner Montilla. \nLa emigración y la llegada de inmigrantes a otros países ha acompañado a la humanidad a lo largo de su historia. Siempre han existido fenómenos migratorios con mayor o menor importancia en las sociedades\, y en momentos de crisis económica como la actual\, buscar nuevas oportunidades en otros países puede ser una solución. El desarrollo de las sociedades actuales no se puede concebir sin el fenómeno de la inmigración\, ya que gracias a él la humanidad ha evolucionado en su forma de vida y de ver el mundo\, compartiendo experiencias… \nPero solapado a este fenómeno de enriquecimiento que da la emigración\, también está el de la adaptación y los problemas psicológicos del inmigrante al estar en muchas ocasiones en ambientes de hostilidad. Cuando la persona llega al lugar de destino necesita adaptarse rápidamente a su nueva situación\, aparece el estrés y lo hace como un estado de alerta y de activación del cuerpo para poder realizar actividades de forma rápida. Pero cuando este fenómeno psicológico se presenta en dosis altas\, se entra en un estado de ansiedad y nerviosismo que en muchos casos impide realizar las actividades de forma adecuada\, generándose una espiral de errores y de preocupación que lo convierten en el aspecto negativo que conlleva la emigración. Si este síntoma se prolonga a lo largo del tiempo\, entonces aparecerán otros síntomas como la depresión\, la culpabilidad o la soledad: el síndrome de Ulises.
URL:https://historico.ateneovalencia.es/evento/sensus-communis-los-problemas-psicologicos-de-un-inmigrante/
LOCATION:Sala de Juntas - Ateneo Mercantil de Valencia\, Plaza del Ayuntamiento 18\, Valencia\, Valencia\, 46002\, España
CATEGORIES:Sensus Communis
ATTACH;FMTTYPE=image/jpeg:https://historico.ateneovalencia.es/wp-content/uploads/2018/03/20180322-Sensus-Communis-Psicologia-Inmigrante.jpg
END:VEVENT
END:VCALENDAR