BEGIN:VCALENDAR
VERSION:2.0
PRODID:-//Ateneo Mercantil de Valencia - ECPv6.0.4//NONSGML v1.0//EN
CALSCALE:GREGORIAN
METHOD:PUBLISH
X-WR-CALNAME:Ateneo Mercantil de Valencia
X-ORIGINAL-URL:https://historico.ateneovalencia.es
X-WR-CALDESC:Eventos para Ateneo Mercantil de Valencia
REFRESH-INTERVAL;VALUE=DURATION:PT1H
X-Robots-Tag:noindex
X-PUBLISHED-TTL:PT1H
BEGIN:VTIMEZONE
TZID:Europe/Madrid
BEGIN:DAYLIGHT
TZOFFSETFROM:+0100
TZOFFSETTO:+0200
TZNAME:CEST
DTSTART:20180325T010000
END:DAYLIGHT
BEGIN:STANDARD
TZOFFSETFROM:+0200
TZOFFSETTO:+0100
TZNAME:CET
DTSTART:20181028T010000
END:STANDARD
END:VTIMEZONE
BEGIN:VEVENT
DTSTART;TZID=Europe/Madrid:20180222T193000
DTEND;TZID=Europe/Madrid:20180222T210000
DTSTAMP:20260421T213638
CREATED:20180222T123113Z
LAST-MODIFIED:20180222T130607Z
UID:30721-1519327800-1519333200@historico.ateneovalencia.es
SUMMARY:Sensus Communis: "La experiencia personal de un inmigrante"
DESCRIPTION:El Ciclo Sensus Communis regresa con una conferencia que llega bajo el título: "La experiencia personal de un inmigrante" y contará con la prencia de un ponente que contará en primera persona sus vivencias al llegara a España\, él es el psicólogo argelino\, D. Talbi Mouloud. La conferencia se reazloizará en la Sala de Juntas del Ateneo Mercantil a las 19.30 horas. La charla pretende superar los tópicos sobre los inmigrantes y hablar de cómo es su llegada a España y su vida en nuestro país. Una opinión que intentará esbozar la inmigración desde el otro lado\, desde la perspectiva del emigrante.
URL:https://historico.ateneovalencia.es/evento/sensus-communis-la-experiencia-personal-de-un-inmigrante/
LOCATION:Sala de Juntas - Ateneo Mercantil de Valencia\, Plaza del Ayuntamiento 18\, Valencia\, Valencia\, 46002\, España
CATEGORIES:Sensus Communis
ATTACH;FMTTYPE=image/jpeg:https://historico.ateneovalencia.es/wp-content/uploads/2018/02/20180222-Sensus-Communis-La-experiencia-personal-de-un-inmigrante.jpg
END:VEVENT
END:VCALENDAR