BEGIN:VCALENDAR
VERSION:2.0
PRODID:-//Ateneo Mercantil de Valencia - ECPv6.0.4//NONSGML v1.0//EN
CALSCALE:GREGORIAN
METHOD:PUBLISH
X-ORIGINAL-URL:https://historico.ateneovalencia.es
X-WR-CALDESC:Eventos para Ateneo Mercantil de Valencia
REFRESH-INTERVAL;VALUE=DURATION:PT1H
X-Robots-Tag:noindex
X-PUBLISHED-TTL:PT1H
BEGIN:VTIMEZONE
TZID:Europe/Madrid
BEGIN:DAYLIGHT
TZOFFSETFROM:+0100
TZOFFSETTO:+0200
TZNAME:CEST
DTSTART:20180325T010000
END:DAYLIGHT
BEGIN:STANDARD
TZOFFSETFROM:+0200
TZOFFSETTO:+0100
TZNAME:CET
DTSTART:20181028T010000
END:STANDARD
END:VTIMEZONE
BEGIN:VEVENT
DTSTART;TZID=Europe/Madrid:20180208T190000
DTEND;TZID=Europe/Madrid:20180208T210000
DTSTAMP:20260421T214720
CREATED:20180205T120000Z
LAST-MODIFIED:20180205T120156Z
UID:29553-1518116400-1518123600@historico.ateneovalencia.es
SUMMARY:Tertulia Taurina: "28/7/1990 - Enrique Ponce: Dos juguetones y un torero"
DESCRIPTION:La Tertulia Taurina del Ateneo Mercantil rescata la grabación de una corrida histórica en la que Enrique Ponce se encerró con seis toros en Valencia\, en una corrida en la que sus dos compañeros de corrida no torearon tras tener dolores de espalda y de abductores horas antes del festejo. Los comentarios de la proyección correrán a cargo de un buen amigo y un gran conocido de Enrique Ponce: D. José Soriano. \nAquel 28 de julio de 1990\, Enrique Ponce hizo la hombrada de encerrarse con seis toros\, los lidió sobrado de facultades y de técnica\, cuajó una faena de altas calidades artísticas\, salió a hombros por la puerta grande entre aclamaciones de "torero!". A las tres de la tarde Enrique Ponce no sabía que iba a matar seis toros; creía que alternaría con Roberto Domínguez y El Soro\, pero tres de los galaches anunciados habían sido sustituídos por tres pavos de El Toril y Roberto Domínguez envío un parte facultativo certificando que le dolía la espalda\, mientras que El Soro hizo lo propio con otro certificando que le dolían los abductores\, y no podían torear. La leyenda de Enrique Ponce comenzó a escribirse ese día.
URL:https://historico.ateneovalencia.es/evento/tertulia-taurina-2871990-enrique-ponce-dos-juguetones-y-un-torero/
LOCATION:Sala Fundación - Ateneo Mercantil de Valencia\, Plaza del Ayuntamiento\, 18\, Valencia\, España\, Valencia\, Valencia\, 46002\, España
CATEGORIES:Tertulia Taurina
ATTACH;FMTTYPE=image/jpeg:https://historico.ateneovalencia.es/wp-content/uploads/2018/02/20180208-Enrique-Ponce-Corrida-historica-28-07-1990.jpg
END:VEVENT
BEGIN:VEVENT
DTSTART;TZID=Europe/Madrid:20180208T193000
DTEND;TZID=Europe/Madrid:20180208T210000
DTSTAMP:20260421T214720
CREATED:20180123T115055Z
LAST-MODIFIED:20180123T125113Z
UID:29260-1518118200-1518123600@historico.ateneovalencia.es
SUMMARY:Sensus Communis: "Derecho y Democracia: gestionar la multiculturalidad"
DESCRIPTION:Nueva reunión del Foro Sensus Communis que tendrá lugar el próximo jueves 8 de febrero\, a las 19.30 horas\, en la Sala de Juntas del Ateneo Mercantil (quinta planta) y el invitado será D. Francisco Javier de Lucas\, que es catedrático de Filosofía del Derecho y Filosofía Política en el Instituto de Derechos Humanos de la Universidad de Valencia. La conferencia llega bajo el siguiente título: "Derecho y Democracia: gestionar la multiculturalidad". \nLas sociedades multiculturales constituyen un fenómeno característico de nuestro tiempo. Es decir\, en las sociedades actuales conviven códigos e identidades culturales diversos como consecuencia de diferencias étnicas\, lingüísticas\, religiosas o nacionales. En Europa\, este fenómeno responde a la fragmentación de sociedades altamente homogéneas\, a la crisis de consensos internos y del modelo del Estado social\, a los flujos migratorios\, etcétera. \nCiertamente\, la complejidad de las sociedades multiculturales plantea desafíos a la democracia: ¿cómo conciliar la unidad política con la diversidad social? Se debatirá en tomo a estos desafíos. La posición que sostiene que el multiculturalismo es una dimensión más del pluralismo\, pero este fenómeno también constituye uno de los mayores riesgos que debe enfrentar la democracia. \nAl analizar\, las respuestas asimilacionistas o segregacionistas frente al multiculturalismo\, se debe revisar la noción de "ciudadanía"\, entendida ya no sólo en términos de nacionalidad\, sino también en términos de la búsqueda de otros elementos de inclusión\, arraigo y pertenencia como fuentes de identidad.
URL:https://historico.ateneovalencia.es/evento/sensus-communis-derecho-y-democracia-gestionar-la-multiculturalidad/
LOCATION:Sala de Juntas - Ateneo Mercantil de Valencia\, Plaza del Ayuntamiento 18\, Valencia\, Valencia\, 46002\, España
CATEGORIES:Sensus Communis
ATTACH;FMTTYPE=image/jpeg:https://historico.ateneovalencia.es/wp-content/uploads/2018/01/20180208-Sensus-Communis.jpg
END:VEVENT
END:VCALENDAR