BEGIN:VCALENDAR
VERSION:2.0
PRODID:-//Ateneo Mercantil de Valencia - ECPv6.0.4//NONSGML v1.0//EN
CALSCALE:GREGORIAN
METHOD:PUBLISH
X-ORIGINAL-URL:https://historico.ateneovalencia.es
X-WR-CALDESC:Eventos para Ateneo Mercantil de Valencia
REFRESH-INTERVAL;VALUE=DURATION:PT1H
X-Robots-Tag:noindex
X-PUBLISHED-TTL:PT1H
BEGIN:VTIMEZONE
TZID:Europe/Madrid
BEGIN:DAYLIGHT
TZOFFSETFROM:+0100
TZOFFSETTO:+0200
TZNAME:CEST
DTSTART:20170326T010000
END:DAYLIGHT
BEGIN:STANDARD
TZOFFSETFROM:+0200
TZOFFSETTO:+0100
TZNAME:CET
DTSTART:20171029T010000
END:STANDARD
END:VTIMEZONE
BEGIN:VEVENT
DTSTART;TZID=Europe/Madrid:20171130T190000
DTEND;TZID=Europe/Madrid:20171130T210000
DTSTAMP:20260422T020032
CREATED:20171127T102726Z
LAST-MODIFIED:20171127T102728Z
UID:27834-1512068400-1512075600@historico.ateneovalencia.es
SUMMARY:Tertulia taurina “40 Aniversario de Aplausos": Desde 2010 hasta la Actualidad
DESCRIPTION:Para finalizar el monográfico de los 40 años de la revista Aplausos\, D. Francisco Cervera\, será el ponente del Jueves día 30 de Noviembre 2017 y su intervención la dedicará a los años 2010 hasta la actualidad\, repartido en cuatro puntos. Evolución del toro de lidia y ganaderias. Formas de torear modernas. Diestros destacados. Rejoneo a caballo y su evolución.
URL:https://historico.ateneovalencia.es/evento/tertulia-taurina-40-aniversario-de-aplausos-desde-2010-hasta-la-actualidad/
LOCATION:Sala Fundación - Ateneo Mercantil de Valencia\, Plaza del Ayuntamiento\, 18\, Valencia\, España\, Valencia\, Valencia\, 46002\, España
CATEGORIES:Tertulia Taurina
ATTACH;FMTTYPE=image/jpeg:https://historico.ateneovalencia.es/wp-content/uploads/2017/10/20171026-Aplausos-II.jpg
END:VEVENT
END:VCALENDAR