BEGIN:VCALENDAR
VERSION:2.0
PRODID:-//Ateneo Mercantil de Valencia - ECPv6.0.4//NONSGML v1.0//EN
CALSCALE:GREGORIAN
METHOD:PUBLISH
X-WR-CALNAME:Ateneo Mercantil de Valencia
X-ORIGINAL-URL:https://historico.ateneovalencia.es
X-WR-CALDESC:Eventos para Ateneo Mercantil de Valencia
REFRESH-INTERVAL;VALUE=DURATION:PT1H
X-Robots-Tag:noindex
X-PUBLISHED-TTL:PT1H
BEGIN:VTIMEZONE
TZID:Europe/Madrid
BEGIN:DAYLIGHT
TZOFFSETFROM:+0100
TZOFFSETTO:+0200
TZNAME:CEST
DTSTART:20170326T010000
END:DAYLIGHT
BEGIN:STANDARD
TZOFFSETFROM:+0200
TZOFFSETTO:+0100
TZNAME:CET
DTSTART:20171029T010000
END:STANDARD
END:VTIMEZONE
BEGIN:VEVENT
DTSTART;TZID=Europe/Madrid:20171120T190000
DTEND;TZID=Europe/Madrid:20171120T210000
DTSTAMP:20260421T162603
CREATED:20171024T074716Z
LAST-MODIFIED:20171024T074716Z
UID:26995-1511204400-1511211600@historico.ateneovalencia.es
SUMMARY:Ciclo Otras Tertulias: "La Energía\, el Medioambiente y el Cambio Climático II"
DESCRIPTION:En la primera exposición quedó de manifiesto la situación actual sobre el consumo de energía “primaria” en el mundo. Vimos que para el año 2020 el 90% de la producción de energía seguirá siendo procedente de combustibles fósiles\, (carbón\, petróleo y gas natural). \nLos estudios científicos realizados  en cuanto a la temperatura media del planeta\, pronostican un incremento para el año 2020 de 1\,3º C. sobre la mantenida con anterioridad a la revolución industrial. Este incremento “puede ser la causa” de algunos fenómenos atmosféricos y cambios en la superficie de la tierra\, que de seguir así  a no muy largo plazo causen problemas irreversibles para el mantenimiento de la vida de los seres vivos\, tal y como se desenvuelven en la actualidad. \n¿La causa es el consumo de combustibles fósiles?  ¿Serán otros los motivos?. ¿Puede el ser humano hacer algo para evitarlo? Estas y otras preguntas será el objeto de la tertulia. Analizaremos los medios que se disponen actualmente para la transformación de la energía\, así como\, algunos que se vislumbran como posibles. Plantearemos  las dificultades de su implementación\, con el fin de tener un criterio lo más correcto posible sobre este problema que denominamos “cambio climático”.
URL:https://historico.ateneovalencia.es/evento/ciclo-otras-tertulias-la-energia-el-medioambiente-y-el-cambio-climatico-ii/
LOCATION:Salón Sorolla - Ateneo Mercantil de Valencia\, Plaza del Ayuntamiento 18\, Valencia\, Valencia\, 46002\, España
CATEGORIES:Ciclo Otras Tertulias
ATTACH;FMTTYPE=image/jpeg:https://historico.ateneovalencia.es/wp-content/uploads/2017/10/20171120-Camabio-Climatico-II.jpg
END:VEVENT
END:VCALENDAR