BEGIN:VCALENDAR
VERSION:2.0
PRODID:-//Ateneo Mercantil de Valencia - ECPv6.0.4//NONSGML v1.0//EN
CALSCALE:GREGORIAN
METHOD:PUBLISH
X-WR-CALNAME:Ateneo Mercantil de Valencia
X-ORIGINAL-URL:https://historico.ateneovalencia.es
X-WR-CALDESC:Eventos para Ateneo Mercantil de Valencia
REFRESH-INTERVAL;VALUE=DURATION:PT1H
X-Robots-Tag:noindex
X-PUBLISHED-TTL:PT1H
BEGIN:VTIMEZONE
TZID:Europe/Madrid
BEGIN:DAYLIGHT
TZOFFSETFROM:+0100
TZOFFSETTO:+0200
TZNAME:CEST
DTSTART:20170326T010000
END:DAYLIGHT
BEGIN:STANDARD
TZOFFSETFROM:+0200
TZOFFSETTO:+0100
TZNAME:CET
DTSTART:20171029T010000
END:STANDARD
END:VTIMEZONE
BEGIN:VEVENT
DTSTART;TZID=Europe/Madrid:20171114T193000
DTEND;TZID=Europe/Madrid:20171114T203000
DTSTAMP:20260421T211726
CREATED:20171103T125027Z
LAST-MODIFIED:20171109T162119Z
UID:27347-1510687800-1510691400@historico.ateneovalencia.es
SUMMARY:La libertad de educación en la Comunidad Valenciana: el adoctrinamiento en las Aulas
DESCRIPTION:El Foro Vinatea ha programado el próximo 14 de noviembre a las 19:30 horas el coloquio "La libertad de educación en la Comunidad Valenciana: el adoctrinamiento en las aulas". En el mismo participarán Vicente Morro López\, presidente de FCPA. Mesa por la Educación en Libertad;  Antonio Peiró\, de la Federación de Sindicatos Independientes de la Enseñanza; Vicenta Rodríguez\, secretaria autonómica de Escuelas Católicas de la Comunidad Valenciana y un representante de FECEVAL.
URL:https://historico.ateneovalencia.es/evento/nueva-conferencia-foro-vinatea-ateneo/
LOCATION:Salón Sorolla - Ateneo Mercantil de Valencia\, Plaza del Ayuntamiento 18\, Valencia\, Valencia\, 46002\, España
CATEGORIES:Foro Vinatea
ATTACH;FMTTYPE=image/jpeg:https://historico.ateneovalencia.es/wp-content/uploads/2017/11/20171114-Foro-Vinatea-Enseñanza.jpg
END:VEVENT
END:VCALENDAR