BEGIN:VCALENDAR
VERSION:2.0
PRODID:-//Ateneo Mercantil de Valencia - ECPv6.0.4//NONSGML v1.0//EN
CALSCALE:GREGORIAN
METHOD:PUBLISH
X-WR-CALNAME:Ateneo Mercantil de Valencia
X-ORIGINAL-URL:https://historico.ateneovalencia.es
X-WR-CALDESC:Eventos para Ateneo Mercantil de Valencia
REFRESH-INTERVAL;VALUE=DURATION:PT1H
X-Robots-Tag:noindex
X-PUBLISHED-TTL:PT1H
BEGIN:VTIMEZONE
TZID:Europe/Madrid
BEGIN:DAYLIGHT
TZOFFSETFROM:+0100
TZOFFSETTO:+0200
TZNAME:CEST
DTSTART:20170326T010000
END:DAYLIGHT
BEGIN:STANDARD
TZOFFSETFROM:+0200
TZOFFSETTO:+0100
TZNAME:CET
DTSTART:20171029T010000
END:STANDARD
END:VTIMEZONE
BEGIN:VEVENT
DTSTART;TZID=Europe/Madrid:20171102T193000
DTEND;TZID=Europe/Madrid:20171102T210000
DTSTAMP:20260421T175256
CREATED:20171023T095256Z
LAST-MODIFIED:20171102T132723Z
UID:26957-1509651000-1509656400@historico.ateneovalencia.es
SUMMARY:Sensus Communis: "España en la Encrucijada. Historia\, Historiadores y Política"
DESCRIPTION:Tercera sesión del Foro Sensus Communis que trae hasta la Sala de Exposiciones la interesante conferencia “España en la Encrucijada. Historia\, Historiadores y Política" del historiador y político\, D. Guillermo Gortázar (Vitoria\, 1951)\, diputado en el Congreso en la V\, VI\, y VII legislatura\, ha publicado más de dos centenares de artículos\, colaboraciones y participaciones en libros colectivos. Recuerda que la conferencia será el próximo 2 de noviembre a las 19.30 horas en el tercer piso del Ateneo Mercantil. \nGuillermo Gortázar\, (Vitoria\, 1951). Licenciado en Historia y Derecho por la Universidad Complutense. En 1978 ganó la Cátedra de Instituto\, Becario de la Fundación Fulbright en 1980-1982\, obtuvo el Master en Historia (MA) en la Universidad de California\, La Jolla. Doctor en Historia\, cum laude\, Universidad Complutense\, Madrid\, 1986\, Profesor Titular de Historia Contemporánea\, 1987\, UNED\, Madrid; con J. Cruz\, publicó en 1986 Cómo estudiar Historia. Guía para estudiantes\, Barcelona\, Editorial Vicens Vives; autor de Alfonso XIII\, hombre de negocios. Persistencia del Antiguo Régimen\, modernización económica y crisis política 1902-1931\, Madrid\, Alianza Editorial\, 1986; ¿Idelogías sin futuro? ¿Futuro sin ideologías? Coferencias y debate con Daniel Bell\, Francis Fukuyama y Jean François Revel\, Madrid\, Editorial Complutense\, 1993; Coordinador y autor de Nación y estado en la España liberal\, Madrid\, Noesis\, 1994; Coordinador y autor de Visiones de Europa\, Noesis\, Madrid\, 1994; coordinador del libro\, Cien años de historia de Cuba. 1898-1998\, Madrid\, Verbum\, 2000; autor de Cuba: camino de libertad\, Madrid\, EHC\, Editorial Hispano Cubana\, 2012; autor de El salón de los encuentros. Una contribución al debate político del siglo XXI\, Madrid\, Unión Editorial\, 2016. Editor y coautor de Bajo el dios Augusto. El oficio de historiador ante los guardianes parciales de la historia. Madrid\, Unión Editorial\, 2017. Guillermo Gortázar\, diputado en el Congreso en la V\, VI\, y VII legislatura ha publicado más de dos centenares de artículos\, colaboraciones y participaciones en libros colectivos.
URL:https://historico.ateneovalencia.es/evento/sensus-communis-espana-en-la-encrucijada-historia-historiadores-y-politica/
LOCATION:Salón Sorolla - Ateneo Mercantil de Valencia\, Plaza del Ayuntamiento 18\, Valencia\, Valencia\, 46002\, España
CATEGORIES:Sensus Communis
ATTACH;FMTTYPE=image/jpeg:https://historico.ateneovalencia.es/wp-content/uploads/2017/10/20171102-Sensus-Communis-Guilermo-Gortazar.jpg
END:VEVENT
END:VCALENDAR