BEGIN:VCALENDAR
VERSION:2.0
PRODID:-//Ateneo Mercantil de Valencia - ECPv6.0.4//NONSGML v1.0//EN
CALSCALE:GREGORIAN
METHOD:PUBLISH
X-ORIGINAL-URL:https://historico.ateneovalencia.es
X-WR-CALDESC:Eventos para Ateneo Mercantil de Valencia
REFRESH-INTERVAL;VALUE=DURATION:PT1H
X-Robots-Tag:noindex
X-PUBLISHED-TTL:PT1H
BEGIN:VTIMEZONE
TZID:Europe/Madrid
BEGIN:DAYLIGHT
TZOFFSETFROM:+0100
TZOFFSETTO:+0200
TZNAME:CEST
DTSTART:20170326T010000
END:DAYLIGHT
BEGIN:STANDARD
TZOFFSETFROM:+0200
TZOFFSETTO:+0100
TZNAME:CET
DTSTART:20171029T010000
END:STANDARD
END:VTIMEZONE
BEGIN:VEVENT
DTSTART;TZID=Europe/Madrid:20171016T190000
DTEND;TZID=Europe/Madrid:20171016T203000
DTSTAMP:20260422T075509
CREATED:20170717T082014Z
LAST-MODIFIED:20171017T065609Z
UID:25292-1508180400-1508185800@historico.ateneovalencia.es
SUMMARY:Ciclo Otras Tertulias: “La Energía\, el Medioambiente y el Cambio Climático"
DESCRIPTION:El próximo 16 de octubre a las 19.00 horas se celebrará en el Salón Sorolla una nueva conferencia del Ciclo Otras Tertulias bajo el título: "La Energía\, el Medioambiente y el Cambio Climático" y correrá a cargo del ponente D. José Manuel García Escudero\, que es ingeniero y socio del Ateneo Mercantil. Un tema de enorme actualidad debido al cambio climático y las energías del futuro. \nEl vínculo entre la energía y el cambio climático es muy fuerte. De hecho\, ha sido el altísimo consumo de energías fósiles lo que ha provocado el calentamiento del clima que ya sufrimos y que seguiremos experimentando en las próximas décadas. Desde el inicio de la era industrial\, el consumo de energía proveniente de los combustibles fósiles -carbón\, petróleo y gas natural- ha ido en aumento. La sociedad\, tal y como la conocemos hasta ahora\, está basada en estas fuentes de energía y en ellas hemos basado nuestra economía.  Pero la quema de los combustibles fósiles es la responsable de la producción de los gases de efecto invernadero\, causantes del calentamiento global. \nAumento del nivel del mar\, sequías cada vez más severas\, fenómenos meteorológicos extremos\, son algunas de las consecuencias del cambio climático y que ya se han empezado a manifestar. España\, además\, es uno de los países más vulnerables al cambio climático. El medio ambiente\, la sociedad\, la economía y\, por tanto\, el empleo\, se verán afectados por el calentamiento global. Sin embargo\, España se aleja cada vez más del cumplimiento del Protocolo de Kioto\, el único acuerdo internacional de lucha contra el cambio climático. \nLa única forma de detener el cambio climático pasa por cambiar nuestros patrones de consumo. Es imprescindible producir más con menos\, aumentar la eficiencia energética de todos los procesos y sustituir el consumo de energías fósiles por renovables. Hacen falta políticas que incentiven el ahorro y la eficiencia energética. \n 
URL:https://historico.ateneovalencia.es/evento/ciclo-otras-tertulias-la-energia-el-medioambiente-y-el-cambio-climatico/
LOCATION:Salón Sorolla - Ateneo Mercantil de Valencia\, Plaza del Ayuntamiento 18\, Valencia\, Valencia\, 46002\, España
CATEGORIES:Ciclo Otras Tertulias
ATTACH;FMTTYPE=image/jpeg:https://historico.ateneovalencia.es/wp-content/uploads/2017/07/Portada_CambioClimatico.jpg
END:VEVENT
END:VCALENDAR