BEGIN:VCALENDAR
VERSION:2.0
PRODID:-//Ateneo Mercantil de Valencia - ECPv6.0.4//NONSGML v1.0//EN
CALSCALE:GREGORIAN
METHOD:PUBLISH
X-WR-CALNAME:Ateneo Mercantil de Valencia
X-ORIGINAL-URL:https://historico.ateneovalencia.es
X-WR-CALDESC:Eventos para Ateneo Mercantil de Valencia
REFRESH-INTERVAL;VALUE=DURATION:PT1H
X-Robots-Tag:noindex
X-PUBLISHED-TTL:PT1H
BEGIN:VTIMEZONE
TZID:Europe/Madrid
BEGIN:DAYLIGHT
TZOFFSETFROM:+0100
TZOFFSETTO:+0200
TZNAME:CEST
DTSTART:20170326T010000
END:DAYLIGHT
BEGIN:STANDARD
TZOFFSETFROM:+0200
TZOFFSETTO:+0100
TZNAME:CET
DTSTART:20171029T010000
END:STANDARD
END:VTIMEZONE
BEGIN:VEVENT
DTSTART;TZID=Europe/Madrid:20171002T190000
DTEND;TZID=Europe/Madrid:20171002T203000
DTSTAMP:20260421T152116
CREATED:20170717T073946Z
LAST-MODIFIED:20170717T103620Z
UID:25289-1506970800-1506976200@historico.ateneovalencia.es
SUMMARY:Tertulia Histórica: “El Reino de Valencia y sus Capitanes Generales en el s. XVIII”
DESCRIPTION:Al finalizar la Guerra de Sucesión la monarquía borbónica implantó un nuevo modelo de organización territorial\, a cuya cabeza se situaron los Capitanes Generales. Sin embargo no fue un modelo uniforme sino dual. El estudio prosopográfico sobre la totalidad de los militares que estuvieron al frente de Capitanías\, demuestra que durante el siglo XVIII hubo dos Capitanías Generales –Cataluña y Valencia– que tuvieron características específicas que las diferenciaron de las demás: oficiales de la más alta graduación –capitán general de los ejércitos– de alto rango aristocrático\, con una proporción importante de extranjeros y consideradas como la cima de una carrera político-militar. En ellas los Capitanes Generales tuvieron competencias militares y también de gobierno\, en su calidad de presidentes de las respectivas Audiencias\, circunstancia que también se produjo en los casos de Aragón\, Galicia\, Mallorca y Canarias. \nAsí\, el próximo 2 de octubre en el Salón Sorolla (19.00 horas) se desarrollará una interesante Conferencia que se engloba en el Ciclo de Tertulias Históricas y que llegará bajo el título: "El Reino de Valencia y sus Capitanes Generales en el siglo XVIII". El ponente de esta tertulia será el facultativo de bibliotecas y socio del Ateneo Mercantil\, D. Salvador Chapa. \nLa Capitanía General de Valencia constituye\, junto con la de Cataluña\, uno de los espacios mejor conocidos. Pionero en su estudio fue\, como en otros tantos trabajos de historia social de la administración\, Pere Molas Ribalta\, quien se ocupó de los capitanes generales de Valencia. Por otro lado\, aun de forma indirecta\, pues han sido centro de atención preferente de su investigación los gobernadores político-militares\, los estudios de Enrique Giménez sobre el reino de Valencia constituyen una de las mejores aportaciones sobre las atribuciones y competencias de los capitanes generales.
URL:https://historico.ateneovalencia.es/evento/tertulia-historica-el-reino-de-valencia-y-sus-capitanes-generales-en-el-s-xviii/
LOCATION:Salón Sorolla - Ateneo Mercantil de Valencia\, Plaza del Ayuntamiento 18\, Valencia\, Valencia\, 46002\, España
CATEGORIES:Tertulia Histórica
ATTACH;FMTTYPE=image/jpeg:https://historico.ateneovalencia.es/wp-content/uploads/2017/07/Portada_CapitanesGenerales.jpg
END:VEVENT
END:VCALENDAR