BEGIN:VCALENDAR
VERSION:2.0
PRODID:-//Ateneo Mercantil de Valencia - ECPv6.0.4//NONSGML v1.0//EN
CALSCALE:GREGORIAN
METHOD:PUBLISH
X-WR-CALNAME:Ateneo Mercantil de Valencia
X-ORIGINAL-URL:https://historico.ateneovalencia.es
X-WR-CALDESC:Eventos para Ateneo Mercantil de Valencia
REFRESH-INTERVAL;VALUE=DURATION:PT1H
X-Robots-Tag:noindex
X-PUBLISHED-TTL:PT1H
BEGIN:VTIMEZONE
TZID:Europe/Madrid
BEGIN:DAYLIGHT
TZOFFSETFROM:+0100
TZOFFSETTO:+0200
TZNAME:CEST
DTSTART:20170326T010000
END:DAYLIGHT
BEGIN:STANDARD
TZOFFSETFROM:+0200
TZOFFSETTO:+0100
TZNAME:CET
DTSTART:20171029T010000
END:STANDARD
END:VTIMEZONE
BEGIN:VEVENT
DTSTART;TZID=Europe/Madrid:20170921T193000
DTEND;TZID=Europe/Madrid:20170921T210000
DTSTAMP:20260421T212811
CREATED:20170726T092200Z
LAST-MODIFIED:20170914T064053Z
UID:25645-1506022200-1506027600@historico.ateneovalencia.es
SUMMARY:Sensus Communis: "El fracaso de las políticas de integración  y la extrema debilidad de la administración"
DESCRIPTION:Los actos vandálicos y los últimos sucesos de atentados terroristas en Europa que han sacudido al Viejo Continente crea la necesidad de preguntarse si\, tal vez\, hay que replantearse las políticas de integración tanto a nivel estatal como a nivel europeo. Tradicionalmente se aceptan tres modelos de integración: el modelo multicultural\, el modelo universalista y\, finalmente\, el modelo de separación. Una buena política de integración puede conseguir que el inmigrante asuma unos valores\, pero si no van acompañados de unas condiciones económicas\, es muy complicado conseguir la integración plena. \nEsta conferencia la impartirá el profesor universitario\, Guillermo Vansteenberghe\, quien aprendió castellano a los 12 años cuando su familia se trasladó desde Bélgica a Tenerife. Este historiador y experto en movimientos migratorios\, ejerció como director de Inmigración del Consell y fue responsable del CeiMigra.
URL:https://historico.ateneovalencia.es/evento/sensus-communis-el-fracaso-de-las-politicas-de-integracion-y-la-extrema-debilidad-de-la-administracion/
LOCATION:Sala de Juntas - Ateneo Mercantil de Valencia\, Plaza del Ayuntamiento 18\, Valencia\, Valencia\, 46002\, España
CATEGORIES:Sensus Communis
ATTACH;FMTTYPE=image/jpeg:https://historico.ateneovalencia.es/wp-content/uploads/2017/07/20170921-Sensus_Communis_IntegracionRefugiados.jpg
END:VEVENT
END:VCALENDAR