BEGIN:VCALENDAR
VERSION:2.0
PRODID:-//Ateneo Mercantil de Valencia - ECPv6.0.4//NONSGML v1.0//EN
CALSCALE:GREGORIAN
METHOD:PUBLISH
X-WR-CALNAME:Ateneo Mercantil de Valencia
X-ORIGINAL-URL:https://historico.ateneovalencia.es
X-WR-CALDESC:Eventos para Ateneo Mercantil de Valencia
REFRESH-INTERVAL;VALUE=DURATION:PT1H
X-Robots-Tag:noindex
X-PUBLISHED-TTL:PT1H
BEGIN:VTIMEZONE
TZID:Europe/Madrid
BEGIN:DAYLIGHT
TZOFFSETFROM:+0100
TZOFFSETTO:+0200
TZNAME:CEST
DTSTART:20170326T010000
END:DAYLIGHT
BEGIN:STANDARD
TZOFFSETFROM:+0200
TZOFFSETTO:+0100
TZNAME:CET
DTSTART:20171029T010000
END:STANDARD
END:VTIMEZONE
BEGIN:VEVENT
DTSTART;TZID=Europe/Madrid:20170515T190000
DTEND;TZID=Europe/Madrid:20170515T210000
DTSTAMP:20260421T212805
CREATED:20170418T173014Z
LAST-MODIFIED:20170426T100746Z
UID:23134-1494874800-1494882000@historico.ateneovalencia.es
SUMMARY:Tertulia Histórica: 575 Años de la Farmacia Valenciana
DESCRIPTION:El Colegio Oficial de Famacéuticos de Valencia cumple casi seis siglos de antigüedad. El ente valenciano es el colegio profesional más antiguo del mundo y cumple 575 años\, por lo que en 2017 tiene un año repleto de eventos con motivo de su aniversario. Dentro de estos eventos está esta tertulia-exposición que se realizará en el Salón Sorolla el próximo 15 de mayo y en la que se acercará la importante labor que ha desarrollado la Farmacia dentro de nuestra tierra. \nUna institución que ha sido patrimonio de los valencianos y de todos los españoles\, se quiere dar a conocer para que sirva de reconocimiento para una profesión que siempre supo estar a la vanguardia. La tertulia la impartirá el Doctor en Farmacia\, D. Vicent Baixauli Comes.
URL:https://historico.ateneovalencia.es/evento/tertulia-historica-575-anos-de-la-farmacia-valenciana/
LOCATION:Salón Sorolla - Ateneo Mercantil de Valencia\, Plaza del Ayuntamiento 18\, Valencia\, Valencia\, 46002\, España
CATEGORIES:Tertulia Histórica
ATTACH;FMTTYPE=image/jpeg:https://historico.ateneovalencia.es/wp-content/uploads/2017/04/Portada-Farmacia.jpg
END:VEVENT
END:VCALENDAR