BEGIN:VCALENDAR
VERSION:2.0
PRODID:-//Ateneo Mercantil de Valencia - ECPv6.0.4//NONSGML v1.0//EN
CALSCALE:GREGORIAN
METHOD:PUBLISH
X-ORIGINAL-URL:https://historico.ateneovalencia.es
X-WR-CALDESC:Eventos para Ateneo Mercantil de Valencia
REFRESH-INTERVAL;VALUE=DURATION:PT1H
X-Robots-Tag:noindex
X-PUBLISHED-TTL:PT1H
BEGIN:VTIMEZONE
TZID:Europe/Madrid
BEGIN:DAYLIGHT
TZOFFSETFROM:+0100
TZOFFSETTO:+0200
TZNAME:CEST
DTSTART:20170326T010000
END:DAYLIGHT
BEGIN:STANDARD
TZOFFSETFROM:+0200
TZOFFSETTO:+0100
TZNAME:CET
DTSTART:20171029T010000
END:STANDARD
END:VTIMEZONE
BEGIN:VEVENT
DTSTART;TZID=Europe/Madrid:20170511T193000
DTEND;TZID=Europe/Madrid:20170511T210000
DTSTAMP:20260422T151204
CREATED:20161124T071555Z
LAST-MODIFIED:20170502T104639Z
UID:17393-1494531000-1494536400@historico.ateneovalencia.es
SUMMARY:Sensus Communis: "La mediación o el diálogo como instrumento para solucionar conflictos"
DESCRIPTION:Regresa el Foro Sensus Communis con un tema relevante como es el de la mediación en la resolución de conflictos. La invitada y ponente del acto será la prestigiosa abogada y responsable del área de Mediación del Colegio de Abogados de Valencia\, Doña. Beatriz Rabasa. La tertulia se desarrollará bajo el tema: "La mediación o el diálogo como instrumento para solucionar conflictos". \nSe explicará el desarrollo del proceso de mediación en la intervención de un conflicto\, aunque se partirá desde el mismo concepto de mediación y sus características. También se explicarán los aspectos relativos a las modalidades de mediación y su transformación ante el conflicto\, mientras que finalmente\, se mostraán las distintas aportaciones de la mediación en el ámbito familiar\, escolar y judicial\, entre otros. Entrada GRATUITA\, hasta completar Aforo.
URL:https://historico.ateneovalencia.es/evento/sensus-communis-la-mediacion-o-el-dialogo-como-instrumento-para-solucionar-conflictos/
LOCATION:Sala de Juntas - Ateneo Mercantil de Valencia\, Plaza del Ayuntamiento 18\, Valencia\, Valencia\, 46002\, España
CATEGORIES:Sensus Communis
ATTACH;FMTTYPE=image/jpeg:https://historico.ateneovalencia.es/wp-content/uploads/2016/11/la-mediacion-portada.jpg
END:VEVENT
END:VCALENDAR