BEGIN:VCALENDAR
VERSION:2.0
PRODID:-//Ateneo Mercantil de Valencia - ECPv6.0.4//NONSGML v1.0//EN
CALSCALE:GREGORIAN
METHOD:PUBLISH
X-WR-CALNAME:Ateneo Mercantil de Valencia
X-ORIGINAL-URL:https://historico.ateneovalencia.es
X-WR-CALDESC:Eventos para Ateneo Mercantil de Valencia
REFRESH-INTERVAL;VALUE=DURATION:PT1H
X-Robots-Tag:noindex
X-PUBLISHED-TTL:PT1H
BEGIN:VTIMEZONE
TZID:Europe/Madrid
BEGIN:DAYLIGHT
TZOFFSETFROM:+0100
TZOFFSETTO:+0200
TZNAME:CEST
DTSTART:20170326T010000
END:DAYLIGHT
BEGIN:STANDARD
TZOFFSETFROM:+0200
TZOFFSETTO:+0100
TZNAME:CET
DTSTART:20171029T010000
END:STANDARD
END:VTIMEZONE
BEGIN:VEVENT
DTSTART;TZID=Europe/Madrid:20170426T193000
DTEND;TZID=Europe/Madrid:20170426T210000
DTSTAMP:20260423T005855
CREATED:20170331T082847Z
LAST-MODIFIED:20170331T082847Z
UID:22475-1493235000-1493240400@historico.ateneovalencia.es
SUMMARY:Foro Justicia y Criminología: "Los incendiarios"
DESCRIPTION:La RAE cataloga a los incendiarios como personas que incendian con premeditación\, por afán de lucro o por maldad\, por lo que hay que diferenciarlos de los pirómanos\, que a todo esto hay que sumar que su condición les viene por un desequilibrio\, por una enfermedad. El Foro de Justicia y Criminología trae el próximo miércoles 26 de abril\, a las 19\,30 horas\, en la Sala Sorolla\, a D. Vicente Garrido\, que entrevistará a D. José Antonio Nuño de la Rosa\, Fiscal coordinador de Incendios Forestales de Valencia para hablar sobre el tema: "Incendiarios\, ¿estamos en sus manos?". \nMuchos los medios de comunicación hablan de pirómanos cuando quizá deberían llamarles incendiarios. Por No se usan los términos adecuados en muchas ocasiones. Los incendiarios son personas que provocan incendios\, generalmente con premeditación y afán de lucro\, aunque también por descuido\, o neglicencia. Son personas que persiguen un interés económico tras la quema de terrenos. \nEn cambio\, los pirómanos son personas que actúan\, al igual que los incendiarios\, de forma intencionada\, pero sin embargo\, la diferencia principal con el incendiario radica en que un pirómano es una persona con un trastorno del control de los impulsos\, mientras que un incendiario no los es.
URL:https://historico.ateneovalencia.es/evento/foro-justicia-y-criminologia-los-incendiarios/
LOCATION:Salón Sorolla - Ateneo Mercantil de Valencia\, Plaza del Ayuntamiento 18\, Valencia\, Valencia\, 46002\, España
CATEGORIES:Foro Justicia y Criminología
ATTACH;FMTTYPE=image/jpeg:https://historico.ateneovalencia.es/wp-content/uploads/2017/03/Portada_Incendiarios.jpg
END:VEVENT
END:VCALENDAR