BEGIN:VCALENDAR
VERSION:2.0
PRODID:-//Ateneo Mercantil de Valencia - ECPv6.0.4//NONSGML v1.0//EN
CALSCALE:GREGORIAN
METHOD:PUBLISH
X-WR-CALNAME:Ateneo Mercantil de Valencia
X-ORIGINAL-URL:https://historico.ateneovalencia.es
X-WR-CALDESC:Eventos para Ateneo Mercantil de Valencia
REFRESH-INTERVAL;VALUE=DURATION:PT1H
X-Robots-Tag:noindex
X-PUBLISHED-TTL:PT1H
BEGIN:VTIMEZONE
TZID:Europe/Madrid
BEGIN:DAYLIGHT
TZOFFSETFROM:+0100
TZOFFSETTO:+0200
TZNAME:CEST
DTSTART:20170326T010000
END:DAYLIGHT
BEGIN:STANDARD
TZOFFSETFROM:+0200
TZOFFSETTO:+0100
TZNAME:CET
DTSTART:20171029T010000
END:STANDARD
END:VTIMEZONE
BEGIN:VEVENT
DTSTART;TZID=Europe/Madrid:20170220T190000
DTEND;TZID=Europe/Madrid:20170220T190000
DTSTAMP:20260421T150319
CREATED:20170202T124459Z
LAST-MODIFIED:20170220T065414Z
UID:19330-1487617200-1487617200@historico.ateneovalencia.es
SUMMARY:Ciclo Otras Tertulias: "La intervención de los ciudadanos en la Administración de Justicia"
DESCRIPTION:El próximo 20 de febrero de 2017\, a las 19:00 horas\, tenemos una nueva cita del Ciclo Otras Tertulias. En esta ocasión\, el expresidente del Tribunal Superior de Justicia de la Comunidad Valenciana y socio de nuestro Ateneo\, D. Juan Luis de la Rua Moreno\, nos hablará sobre La intervención de los ciudadanos en la Administración de Justicia.  \nTodo los ciudadanos hablan sobre la justicia pero en las encuestas oficiales el 86% de los mismos reconocen que desconocen el funcionamiento de la misma. D. Juan Miguel\, con su experiencia\, nos resolverá a los asistentes muchas incognitas al respecto\, pudiendo posteriormente en el debate resolver las dudas particulares. Todo ello\, nos lo contará de una forma clara y amena el ponente.
URL:https://historico.ateneovalencia.es/evento/ciclo-otras-tertulias-la-intervencion-de-los-ciudadanos-en-la-administracion-de-justicia/
LOCATION:Salón Sorolla - Ateneo Mercantil de Valencia\, Plaza del Ayuntamiento 18\, Valencia\, Valencia\, 46002\, España
CATEGORIES:Ciclo Otras Tertulias
ATTACH;FMTTYPE=image/jpeg:https://historico.ateneovalencia.es/wp-content/uploads/2017/02/20170220-Otras-Tertulias-Tribunal-Superior-Justicia.jpg
END:VEVENT
END:VCALENDAR