BEGIN:VCALENDAR
VERSION:2.0
PRODID:-//Ateneo Mercantil de Valencia - ECPv6.0.4//NONSGML v1.0//EN
CALSCALE:GREGORIAN
METHOD:PUBLISH
X-WR-CALNAME:Ateneo Mercantil de Valencia
X-ORIGINAL-URL:https://historico.ateneovalencia.es
X-WR-CALDESC:Eventos para Ateneo Mercantil de Valencia
REFRESH-INTERVAL;VALUE=DURATION:PT1H
X-Robots-Tag:noindex
X-PUBLISHED-TTL:PT1H
BEGIN:VTIMEZONE
TZID:Europe/Madrid
BEGIN:DAYLIGHT
TZOFFSETFROM:+0100
TZOFFSETTO:+0200
TZNAME:CEST
DTSTART:20170326T010000
END:DAYLIGHT
BEGIN:STANDARD
TZOFFSETFROM:+0200
TZOFFSETTO:+0100
TZNAME:CET
DTSTART:20171029T010000
END:STANDARD
END:VTIMEZONE
BEGIN:VEVENT
DTSTART;TZID=Europe/Madrid:20170214T193000
DTEND;TZID=Europe/Madrid:20170214T193000
DTSTAMP:20260421T212724
CREATED:20170203T074553Z
LAST-MODIFIED:20170213T124527Z
UID:19336-1487100600-1487100600@historico.ateneovalencia.es
SUMMARY:Foro Vinatea Ateneo: "La Llengua Valenciana\, una Constant Històrica"
DESCRIPTION:El próximo 14 de febrero\, a las 19:30 horas en el Salón Stolz\, tenemos una nueva conferencia del Foro Vinatea Ateneo. Esta vez\, D. Oscar Rueda Pitarque\, ingenier\, professor de Llengua Valenciana y Vicepresident de Lo Rat Penat nos hablará de "La Llengua Valenciana\, una Constant Històrica". \nLa entrada es libre hasta completar aforo.
URL:https://historico.ateneovalencia.es/evento/foro-vinatea-ateneo-la-llengua-valenciana-una-constant-historica/
LOCATION:Salón Stolz - Ateneo Mercantil de Valencia\, Plaza del Ayuntamiento\, 18\, Valencia\, España\, Valencia\, Valencia\, 46002\, España
CATEGORIES:Foro Vinatea
ATTACH;FMTTYPE=image/jpeg:https://historico.ateneovalencia.es/wp-content/uploads/2017/02/20170214-Foro-Vinatea-Oscar-Rueda-Pitarque.jpg
END:VEVENT
END:VCALENDAR