BEGIN:VCALENDAR
VERSION:2.0
PRODID:-//Ateneo Mercantil de Valencia - ECPv6.0.4//NONSGML v1.0//EN
CALSCALE:GREGORIAN
METHOD:PUBLISH
X-ORIGINAL-URL:https://historico.ateneovalencia.es
X-WR-CALDESC:Eventos para Ateneo Mercantil de Valencia
REFRESH-INTERVAL;VALUE=DURATION:PT1H
X-Robots-Tag:noindex
X-PUBLISHED-TTL:PT1H
BEGIN:VTIMEZONE
TZID:Europe/Madrid
BEGIN:DAYLIGHT
TZOFFSETFROM:+0100
TZOFFSETTO:+0200
TZNAME:CEST
DTSTART:20170326T010000
END:DAYLIGHT
BEGIN:STANDARD
TZOFFSETFROM:+0200
TZOFFSETTO:+0100
TZNAME:CET
DTSTART:20171029T010000
END:STANDARD
END:VTIMEZONE
BEGIN:VEVENT
DTSTART;TZID=Europe/Madrid:20170123T190000
DTEND;TZID=Europe/Madrid:20170123T190000
DTSTAMP:20260421T194239
CREATED:20161230T121305Z
LAST-MODIFIED:20161230T121305Z
UID:18295-1485198000-1485198000@historico.ateneovalencia.es
SUMMARY:Ciclo Otras Tertulias: “La defensa pasiva: la construcción de refugios antiaéreos de Valencia”
DESCRIPTION:El Ciclo Otras Tertulias llega este mes de enero con la interesante conferencia sobre los refugios de Valencia en la Guerra Civil española. Bajo el título: “La defensa pasiva: la construcción de refugios antiaéreos de Valencia”\, la tertulia correrá a cargo del ponente D. Francisco Taberner Pastor\, ex presidente del Colegio de Arquitectos de Valencia. \nEl 12 de enero de 1937 se produjo el primer bombardeo sobre la ciudad de Valencia\, lo que suscitó la necesidad de construir refugios adecuados a la novedosa forma de ataque. Los refugios se construyeron en la ciudad por la necesidad de brindar protección a la población civil durante la Guerra Civil. Su función principal fue la de amortiguar el impacto de los proyectiles lanzados por los barcos y la aviación enemiga. La Junta de Defensa Pasiva\, creada por el Ministerio de Defensa (22 de junio de 1937)\, fue el organismo encargado de la construcción de los refugios antiaéreos. En total se construyeron 41 refugios tanto abovedados como adintelados\, la mayoría de ellos en el centro de la ciudad. \nLa proximidad del aniversario de la construcción de los refugios y el hecho de que el propio edificio del Ateneo formase parte de la estructura defensiva de la ciudad\, nos ha inclinado a proponer una conferencia explicando las características de su construcción\, número y situación\, y resaltando el valor histórico de estas edificaciones\, que solo recientemente han sido declaradas Bienes de Relevancia Local\, siendo ya quince de ellas objeto de protección por el Plan General de Valencia.
URL:https://historico.ateneovalencia.es/evento/ciclo-otras-tertulias-la-defensa-pasiva-la-construccion-de-refugios-antiaereos-de-valencia/
LOCATION:Salón Sorolla - Ateneo Mercantil de Valencia\, Plaza del Ayuntamiento 18\, Valencia\, Valencia\, 46002\, España
CATEGORIES:Ciclo Otras Tertulias
ATTACH;FMTTYPE=image/jpeg:https://historico.ateneovalencia.es/wp-content/uploads/2016/12/20170123-Ciclo-Otras-Tertulias-La-defensa-pasiva.jpg
END:VEVENT
END:VCALENDAR