BEGIN:VCALENDAR
VERSION:2.0
PRODID:-//Ateneo Mercantil de Valencia - ECPv6.0.4//NONSGML v1.0//EN
CALSCALE:GREGORIAN
METHOD:PUBLISH
X-WR-CALNAME:Ateneo Mercantil de Valencia
X-ORIGINAL-URL:https://historico.ateneovalencia.es
X-WR-CALDESC:Eventos para Ateneo Mercantil de Valencia
REFRESH-INTERVAL;VALUE=DURATION:PT1H
X-Robots-Tag:noindex
X-PUBLISHED-TTL:PT1H
BEGIN:VTIMEZONE
TZID:Europe/Madrid
BEGIN:DAYLIGHT
TZOFFSETFROM:+0100
TZOFFSETTO:+0200
TZNAME:CEST
DTSTART:20170326T010000
END:DAYLIGHT
BEGIN:STANDARD
TZOFFSETFROM:+0200
TZOFFSETTO:+0100
TZNAME:CET
DTSTART:20171029T010000
END:STANDARD
END:VTIMEZONE
BEGIN:VEVENT
DTSTART;TZID=Europe/Madrid:20170119T190000
DTEND;TZID=Europe/Madrid:20170119T190000
DTSTAMP:20260422T001941
CREATED:20161228T113128Z
LAST-MODIFIED:20161230T114256Z
UID:18238-1484852400-1484852400@historico.ateneovalencia.es
SUMMARY:Tertulia Taurina: "Función del Alguacilillo en la Plaza de Toros"
DESCRIPTION:El próximo 19 de enero a las 19:00 horas en el Salón Sorolla del Ateneo Mercantil\, Pepe Gaspar y Mariano Fontestad\, alguacilillos de la Plaza de Toros de Valencia\, nos ofrecerán una conferencia a cerca de la Función del Alguacilillo en la Plaza de Toros. Una cita que no te puedes perder y que da comienzo al ciclo de conferencias que nos ofrecerá la Tertulia Taurina del Ateneo a lo largo del año 2017. \nEl alguacilillo es el agente encargado de transmitir y ejecutar las órdenes del presidente durante las corridas de toros. Suele portar una indumentaria que recuerda la de la época de Carlos IV. Forma parte de la tradición taurina\, evocando la figura del «alguacil»\, funcionario público de carácter ejecutivo. Hacen su aparición a caballo y en pareja\, realizando de forma simbólica la ceremonia de «despeje» de la plaza\, dando una vuelta al ruedo\, en recuerdo de cuando había que desalojar al público de la plaza pública para que pudiese comenzar el festejo sin peligro. \nLos dos alguacilillos son los primeros miembros de la comitiva del paseíllo que salen al ruedo de la plaza de toros. Su cometido es\, además de ejecutar las órdenes del presidente\, recoger (simbólicamente) la llave de los toriles\, entregar los premios a los toreros y preceder a las cuadrillas durante el paseíllo. Junto con los picadores y los rejoneadores (en el caso de las corridas de rejones)\, son los únicos componentes que van a caballo. \nCartel de la Conferencia-Coloquio:
URL:https://historico.ateneovalencia.es/evento/tertulia-taurina-funcion-del-alguacilillo-en-la-plaza-de-toros/
LOCATION:Salón Sorolla - Ateneo Mercantil de Valencia\, Plaza del Ayuntamiento 18\, Valencia\, Valencia\, 46002\, España
CATEGORIES:Tertulia Taurina
ATTACH;FMTTYPE=image/jpeg:https://historico.ateneovalencia.es/wp-content/uploads/2016/12/20170119-Tertulia-Taurina-Pepe-Gaspar-y-Mariano-Fontestad.jpg
END:VEVENT
END:VCALENDAR