BEGIN:VCALENDAR
VERSION:2.0
PRODID:-//Ateneo Mercantil de Valencia - ECPv6.0.4//NONSGML v1.0//EN
CALSCALE:GREGORIAN
METHOD:PUBLISH
X-WR-CALNAME:Ateneo Mercantil de Valencia
X-ORIGINAL-URL:https://historico.ateneovalencia.es
X-WR-CALDESC:Eventos para Ateneo Mercantil de Valencia
REFRESH-INTERVAL;VALUE=DURATION:PT1H
X-Robots-Tag:noindex
X-PUBLISHED-TTL:PT1H
BEGIN:VTIMEZONE
TZID:Europe/Madrid
BEGIN:DAYLIGHT
TZOFFSETFROM:+0100
TZOFFSETTO:+0200
TZNAME:CEST
DTSTART:20170326T010000
END:DAYLIGHT
BEGIN:STANDARD
TZOFFSETFROM:+0200
TZOFFSETTO:+0100
TZNAME:CET
DTSTART:20171029T010000
END:STANDARD
END:VTIMEZONE
BEGIN:VEVENT
DTSTART;TZID=Europe/Madrid:20170112T193000
DTEND;TZID=Europe/Madrid:20170112T210000
DTSTAMP:20260422T043834
CREATED:20170103T133753Z
LAST-MODIFIED:20170112T090203Z
UID:18370-1484249400-1484254800@historico.ateneovalencia.es
SUMMARY:Sensus Communis: "El ABC del Islam"
DESCRIPTION:Los seguidores del Foro Sensus Communis están de enhorabuena porque ya tienen aquí la primera tertulia del año 2017. Bajo el título " El ABC del Islam"\, la ponente Dña. Bárbara Ruiz-Bejarano Davis\, miembro de la Plataforma Ciudadana contra la Islamofobia\, acercará el Islam a la sociedad española. El objetivo es presentar las verdaderas enseñanzas del Islam\, tal como es\, sin agregados\, y que se valga por sus propios méritos. \nExiste un solo Islam y sólo un ejemplo de cómo debe vivirse- el del Profeta Mahoma y un sólo Corán\, intacto y sin cambio alguno.  La intención es ofrecer una terulia básica de los principales dogmas del Islam\, tal como están presentados en el Corán y ejemplificados por el Profeta para tratar de responder las preguntas más frecuentes que se hace la gente sobre el Islam. \nComo en todas las culturas y etnias propias de cada país\, la religión islámica ha acuñado una serie de conceptos que pueden resultar difíciles de entender para los educados en otras culturas. Aquí se aclararán dichos términos ya que tienen que ver de forma directa con la legitimidad que se atribuyen en descender directamente del profeta Mahoma.
URL:https://historico.ateneovalencia.es/evento/sensus-communis-el-abc-del-islam/
LOCATION:Sala de Juntas - Ateneo Mercantil de Valencia\, Plaza del Ayuntamiento 18\, Valencia\, Valencia\, 46002\, España
CATEGORIES:Sensus Communis
ATTACH;FMTTYPE=image/jpeg:https://historico.ateneovalencia.es/wp-content/uploads/2017/01/ISLAM_MECA.jpg
END:VEVENT
END:VCALENDAR