BEGIN:VCALENDAR
VERSION:2.0
PRODID:-//Ateneo Mercantil de Valencia - ECPv6.0.4//NONSGML v1.0//EN
CALSCALE:GREGORIAN
METHOD:PUBLISH
X-ORIGINAL-URL:https://historico.ateneovalencia.es
X-WR-CALDESC:Eventos para Ateneo Mercantil de Valencia
REFRESH-INTERVAL;VALUE=DURATION:PT1H
X-Robots-Tag:noindex
X-PUBLISHED-TTL:PT1H
BEGIN:VTIMEZONE
TZID:Europe/Madrid
BEGIN:DAYLIGHT
TZOFFSETFROM:+0100
TZOFFSETTO:+0200
TZNAME:CEST
DTSTART:20160327T010000
END:DAYLIGHT
BEGIN:STANDARD
TZOFFSETFROM:+0200
TZOFFSETTO:+0100
TZNAME:CET
DTSTART:20161030T010000
END:STANDARD
END:VTIMEZONE
BEGIN:VEVENT
DTSTART;TZID=Europe/Madrid:20161114T173000
DTEND;TZID=Europe/Madrid:20161114T190000
DTSTAMP:20260422T192847
CREATED:20161026T062717Z
LAST-MODIFIED:20161026T062717Z
UID:16288-1479144600-1479150000@historico.ateneovalencia.es
SUMMARY:Programa UNESCO: La Ruta de la Seda y el papel de Valencia
DESCRIPTION:El Ciclo Otras Tertulias regresa con esta gran exposición sobre el importante papel de Valencia en la Ruta de la Seda. Y es que la ciudad del Turia reivindica su papel en la Ruta de la Seda\, la milenaria red de caminos comerciales que unió una cadena de ciudades desde el Lejano Oriente hasta el Mediterráneo. La apertura en el rehabilitado Colegio del Arte Mayor de la Seda de un museo dedicado a la producción del tejido en la ciudad se suma a la inclusión de Valencia como integrante de la ruta por parte de la Unesco. Un reconocimiento cultural que puede tener traducción económica como ventana a nuevos mercados turísticos. \n\nLa organización para la cultura\, la educación y la ciencia de Naciones Unidas celebró este año en Valencia su segundo encuentro internacional sobre la ruta\, después del que tuvo lugar el año pasado en Xian\, la ciudad china considerada extremo oriental de la red de vías comerciales que tenía en la seda su producto más valioso. Una terulia que realizará D. José María Chiquillo\, Diputado Nacional y presidente de UNESCO Ruta de la Seda\, el próximo lunes 14 de noviembre a las 17:30 horas en el Salón Sorolla. \nLa seda tuvo una gran importancia en Valencia\, como refleja el nombre del barrio donde se instalaron miles de telares\, Velluters (de vellut\, terciopelo). O el de la Lonja de la Seda. Y fue una gran fuente de riqueza. Algunos de los palacios de la calle Caballeros fueron levantados gracias a las fortunas generadas con este tejido. La conferencia también tratará sobre los orígenes de la ruta de la seda\, aunque la sitúan en el siglo I antes de Cristo\, a raíz de la conexión del imperio chino con el pueblo guerrero de los partos\, tras la cual el emperador Wudi de la dinastía Han mandó abrir una ruta comercial directa hasta Occidente.
URL:https://historico.ateneovalencia.es/evento/programa-unesco-la-ruta-de-la-seda-y-el-papel-de-valencia/
LOCATION:Salón Sorolla - Ateneo Mercantil de Valencia\, Plaza del Ayuntamiento 18\, Valencia\, Valencia\, 46002\, España
CATEGORIES:Tertulias y Foros
ATTACH;FMTTYPE=image/jpeg:https://historico.ateneovalencia.es/wp-content/uploads/2016/10/Lonja_Seda.jpg
END:VEVENT
END:VCALENDAR