BEGIN:VCALENDAR
VERSION:2.0
PRODID:-//Ateneo Mercantil de Valencia - ECPv6.0.4//NONSGML v1.0//EN
CALSCALE:GREGORIAN
METHOD:PUBLISH
X-WR-CALNAME:Ateneo Mercantil de Valencia
X-ORIGINAL-URL:https://historico.ateneovalencia.es
X-WR-CALDESC:Eventos para Ateneo Mercantil de Valencia
REFRESH-INTERVAL;VALUE=DURATION:PT1H
X-Robots-Tag:noindex
X-PUBLISHED-TTL:PT1H
BEGIN:VTIMEZONE
TZID:Europe/Madrid
BEGIN:DAYLIGHT
TZOFFSETFROM:+0100
TZOFFSETTO:+0200
TZNAME:CEST
DTSTART:20160327T010000
END:DAYLIGHT
BEGIN:STANDARD
TZOFFSETFROM:+0200
TZOFFSETTO:+0100
TZNAME:CET
DTSTART:20161030T010000
END:STANDARD
END:VTIMEZONE
BEGIN:VEVENT
DTSTART;TZID=Europe/Madrid:20161020T213000
DTEND;TZID=Europe/Madrid:20161020T230000
DTSTAMP:20260423T104351
CREATED:20161010T074141Z
LAST-MODIFIED:20161010T074141Z
UID:15762-1476999000-1477004400@historico.ateneovalencia.es
SUMMARY:Foro de Justicia: 'La Criminología en el Ayuntamiento'
DESCRIPTION:El Criminólogo y Doctor en Psicología\, D. VICENTE GARRIDO GENOVÉS\, entrevista al Jefe Policía Local de Dénia\,  Licenciado en Criminología y Doctor en Derecho\, JOSÉ MARTÍNEZ ESPASA\, para hablar largo y tendido sobre ¿qué uso de la Criminología hacen los municipios para prevenir el delito y qué podrían hacer? Cada vez son más los ayuntamientos que incorporan un criminólogo a la policía local para el análisis y prevención de delitos en el municipio. \nEntre otras tareas\, estos nuevos profesionales se encargarán de elaborar mapas delincuenciales\, junto con la jefatura del cuerpo\, mediante la geocodificación de los delitos y su tratamiento espacio-temporal. Una vez estén confeccionados estos mapas\, sirven para la planificación del patrullaje en las calles del municipio con el fin de prevenir y reducir los hechos delictivos en la población. Para llevar a cabo esta tarea\, el criminólogo utiliza un programario informático de información geográfica (SIG)\, lo que le permite distribuir su estudio sobre el terreno.
URL:https://historico.ateneovalencia.es/evento/foro-de-justicia-la-criminologia-en-el-ayuntamiento/
LOCATION:Teatro Ateneo
CATEGORIES:Foro Justicia y Criminología
ATTACH;FMTTYPE=image/jpeg:https://historico.ateneovalencia.es/wp-content/uploads/2016/10/La-criminologia-en-el-ayuntamiento.jpg
END:VEVENT
END:VCALENDAR